BEGIN:VCALENDAR
VERSION:2.0
PRODID:-//FreeVélo&#039;v - ECPv6.15.20//NONSGML v1.0//EN
CALSCALE:GREGORIAN
METHOD:PUBLISH
X-WR-CALNAME:FreeVélo&#039;v
X-ORIGINAL-URL:https://freevelov.grandlyon.com
X-WR-CALDESC:Évènements pour FreeVélo&#039;v
REFRESH-INTERVAL;VALUE=DURATION:PT1H
X-Robots-Tag:noindex
X-PUBLISHED-TTL:PT1H
BEGIN:VTIMEZONE
TZID:UTC
BEGIN:STANDARD
TZOFFSETFROM:+0000
TZOFFSETTO:+0000
TZNAME:UTC
DTSTART:20230101T000000
END:STANDARD
END:VTIMEZONE
BEGIN:VEVENT
DTSTART;TZID=UTC:20240912T110000
DTEND;TZID=UTC:20240912T140000
DTSTAMP:20260423T070716
CREATED:20240909T100946Z
LAST-MODIFIED:20240909T101044Z
UID:10000250-1726138800-1726149600@freevelov.grandlyon.com
SUMMARY:Rendez-vous à Lyon 2 à Bron !
DESCRIPTION:Jeudi 12 septembre\, entre 11h et 14h\, viens nous retrouver à Lyon 2 Bron. On te parlera de Freevélo’v\, on t’aidera à t’inscrire\, et surtout\, on partagera nos tips pour bouger écolo en ville. On t’attend avec impatience ! 🌍
URL:https://freevelov.grandlyon.com/evenement/on-debarque-a-lyon-2-a-bron/
END:VEVENT
BEGIN:VEVENT
DTSTART;TZID=UTC:20240920T140000
DTEND;TZID=UTC:20240920T170000
DTSTAMP:20260423T070716
CREATED:20240920T084322Z
LAST-MODIFIED:20240920T084323Z
UID:10000251-1726840800-1726851600@freevelov.grandlyon.com
SUMMARY:On se retrouve au Lycée La Favorite !
DESCRIPTION:Ce vendredi\, on sera au Lycée La Favorite de 14h à 17h. Viens nous rendre visite pour découvrir Freevélo’v\, t’inscrire ou juste papoter vélo. On a hâte de te rencontrer ! 🚲
URL:https://freevelov.grandlyon.com/evenement/on-se-retrouve-au-lycee-la-favorite/
END:VEVENT
BEGIN:VEVENT
DTSTART;TZID=UTC:20240924T090000
DTEND;TZID=UTC:20240924T180000
DTSTAMP:20260423T070716
CREATED:20240920T084400Z
LAST-MODIFIED:20240920T084400Z
UID:10000252-1727168400-1727200800@freevelov.grandlyon.com
SUMMARY:On débarque à Lyon 2 Bron et chez Ocellia !
DESCRIPTION:Ce mardi\, on sera à Lyon 2 Bron de 9h à 18h et dans l’école Ocellia de 11h à 14h30. Passe nous voir pour tout savoir sur Freevélo’v\, t’inscrire et obtenir nos meilleurs conseils pour une mobilité écolo en ville. À bientôt ! 🙂
URL:https://freevelov.grandlyon.com/evenement/on-debarque-a-lyon-2-bron-et-chez-ocellia/
END:VEVENT
BEGIN:VEVENT
DTSTART;TZID=UTC:20240925T110000
DTEND;TZID=UTC:20240925T143000
DTSTAMP:20260423T070716
CREATED:20240920T084428Z
LAST-MODIFIED:20240920T084429Z
UID:10000253-1727262000-1727274600@freevelov.grandlyon.com
SUMMARY:On sera à Mbway !
DESCRIPTION:Le mercredi 25 septembre\, viens nous retrouver à Mbway entre 11h et 14h30. On t’expliquera tout sur Freevélo’v et on t’aidera à t’inscrire. Hâte de t’y voir ! 🌟
URL:https://freevelov.grandlyon.com/evenement/on-sera-a-mbway/
END:VEVENT
BEGIN:VEVENT
DTSTART;TZID=UTC:20240929T080000
DTEND;TZID=UTC:20240929T170000
DTSTAMP:20260423T070716
CREATED:20240808T135124Z
LAST-MODIFIED:20240808T135146Z
UID:10000249-1727596800-1727629200@freevelov.grandlyon.com
SUMMARY:Participe à la Grande Parade du Festival du Vélo avec ton Freevélo'v ! 
DESCRIPTION:Le festival du vélo\, prévu à Lyon le samedi 28 et dimanche 29 septembre\, promet de nombreux moments forts pour les passionnés de cyclisme. Parmi eux\, les usagers de Freevélo’v sont invités à un événement unique : la Grande Parade du Festival\, qui se tiendra le dimanche 29 septembre à 14h.  \n\n\n\nPourquoi participer ?\n\n\n\nUn parcours magique : Le parcours débutera à la Place Bellecour pour une boucle de 9 km\, traversant les quais de Saône\, le tunnel de la Croix-Rousse et les quais du Rhône. Ce trajet entièrement sécurisé offre une occasion inoubliable de découvrir Lyon à vélo.🌆 \n\n\n\nDes animations musicales : La parade sera rythmée par des animations musicales tout au long du parcours\, créant une ambiance festive et divertissante. 🎶 \n\n\n\nUn cadeau pour les participants : Les utilisateurs de Freevélo’v recevront un cadeau en guise de remerciement pour leur engagement et leur participation à cet événement. 🎁 \n\n\n\nUn moment festif : Avant et après la parade\, les participants pourront découvrir le village du festival du vélo sur la place Bellecour. De nombreuses animations seront proposées\, ainsi qu’une offre de restauration délicieuse pour se revitaliser. 🎉 \n\n\n\nComment participer ?\n\n\n\nCet événement est réservé aux utilisateurs de Freevélo’v. Pour participer\, il suffit de s’inscrire en cliquant sur le bouton ci-dessous 👇​  \n\n\n\n\nLien d’inscription\n\n\n\n\nN’oubliez pas d’apporter votre Freevélo’v\, vos amis et votre bonne humeur pour rendre cet événement mémorable. 🤗 \n\n\n\nPour toute question\, contactez-nous à l’adresse : freevelov@velogik.com 📧 \n\n\n\n\nA bientôt ! 😊
URL:https://freevelov.grandlyon.com/evenement/participe-a-la-grande-parade-du-festival-du-velo-avec-ton-freevelov/
ORGANIZER;CN="Freevelov@velogik.com":MAILTO:Freevelov@velogik.com
END:VEVENT
BEGIN:VEVENT
DTSTART;TZID=UTC:20241031T120000
DTEND;TZID=UTC:20241031T140000
DTSTAMP:20260423T070716
CREATED:20241026T081550Z
LAST-MODIFIED:20241026T081551Z
UID:10000254-1730376000-1730383200@freevelov.grandlyon.com
SUMMARY:Viens nous retrouver à l'ORT Lyon !
DESCRIPTION:Le jeudi 31 Octobre\, viens nous retrouver à l’ORT Lyon entre 12h et 14h pour récupérer ton Freevélo’v ! On t’expliquera également notre service et on t’aidera à t’inscrire si besoin ! Hâte de te voir ! 🙂
URL:https://freevelov.grandlyon.com/evenement/viens-nous-retrouver-a-lort-lyon/
END:VEVENT
BEGIN:VEVENT
DTSTART;TZID=UTC:20241106T120000
DTEND;TZID=UTC:20241106T150000
DTSTAMP:20260423T070716
CREATED:20241026T081714Z
LAST-MODIFIED:20241030T111943Z
UID:10000255-1730894400-1730905200@freevelov.grandlyon.com
SUMMARY:Retrouve nous à Bellecour école !
DESCRIPTION:Nous serons au sein de Bellecour école le 06 Novembre de 12h à 15h. Passe nous voir pour tout savoir sur Freevélo’v\, t’inscrire et obtenir nos meilleurs conseils pour une mobilité écolo en ville. À bientôt ! 🙂
URL:https://freevelov.grandlyon.com/evenement/retrouve-nous-sur-la-place-bellecour/
END:VEVENT
BEGIN:VEVENT
DTSTART;TZID=UTC:20241112T120000
DTEND;TZID=UTC:20241112T140000
DTSTAMP:20260423T070716
CREATED:20241026T081826Z
LAST-MODIFIED:20241026T081827Z
UID:10000256-1731412800-1731420000@freevelov.grandlyon.com
SUMMARY:Récupère ton Freevélo'v au sein de Lyon 2 berges !
DESCRIPTION:Le mardi 12 Novembre\, viens nous retrouver à Lyon 2 berges de 12h et 14h pour récupérer ton Freevélo’v ! On t’expliquera également notre service et on t’aidera à t’inscrire si besoin ! Hâte de te voir ! :)🌍
URL:https://freevelov.grandlyon.com/evenement/recupere-ton-freevelov-au-sein-de-lyon-2-berges/
END:VEVENT
BEGIN:VEVENT
DTSTART;TZID=UTC:20241113T100000
DTEND;TZID=UTC:20241113T180000
DTSTAMP:20260423T070716
CREATED:20241026T081930Z
LAST-MODIFIED:20241026T081931Z
UID:10000257-1731492000-1731520800@freevelov.grandlyon.com
SUMMARY:Passe nous voir au forum de l'OPE !
DESCRIPTION:Hello ! Bonne nouvelle ! Nous serons présents au forum de l’OPE (objectif pour l’emploi) de 10h à 18h le mercredi 13 Novembre à la marie de Lyon dans le 8eme. Passe nous voir pour tout savoir sur Freevélo’v\, t’inscrire et obtenir nos meilleurs conseils pour une mobilité écolo en ville. A très vite ! 🙂
URL:https://freevelov.grandlyon.com/evenement/passe-nous-voir-au-forum-de-lope/
END:VEVENT
BEGIN:VEVENT
DTSTART;TZID=UTC:20241113T120000
DTEND;TZID=UTC:20241113T140000
DTSTAMP:20260423T070716
CREATED:20241026T082039Z
LAST-MODIFIED:20241223T092907Z
UID:10000258-1731499200-1731506400@freevelov.grandlyon.com
SUMMARY:Viens récupérer ton Freevélo'v à Lyon 2 Porte des alpes !
DESCRIPTION:Le mercredi 13 Novembre\, viens nous retrouver à Lyon 2 porte des alpes\, de 12h et 14h pour récupérer ton Freevélo’v ! On t’expliquera également notre service et on t’aidera à t’inscrire si besoin ! À bientôt ! 🌍
URL:https://freevelov.grandlyon.com/evenement/viens-recuperer-ton-freevelov-a-lyon-2-porte-des-alpes/
END:VEVENT
BEGIN:VEVENT
DTSTART;TZID=UTC:20250116T120000
DTEND;TZID=UTC:20250116T140000
DTSTAMP:20260423T070716
CREATED:20241227T102642Z
LAST-MODIFIED:20250116T141040Z
UID:10000259-1737028800-1737036000@freevelov.grandlyon.com
SUMMARY:On se retrouve au sein de l'Arfrip !
DESCRIPTION:Nous serons présents au sein de l’Arfrip le jeudi 16 Janvier de 12h à 14h. Viens nous rendre visite pour récupérer ton Freevélo’v\, t’inscrire ou juste papoter vélo. On a hâte de te rencontrer ! A bientôt ! 🚲
URL:https://freevelov.grandlyon.com/evenement/on-se-retrouve-au-sein-de-larfrip/
END:VEVENT
BEGIN:VEVENT
DTSTART;TZID=UTC:20250122T120000
DTEND;TZID=UTC:20250122T140000
DTSTAMP:20260423T070716
CREATED:20250116T135330Z
LAST-MODIFIED:20250116T135331Z
UID:10000260-1737547200-1737554400@freevelov.grandlyon.com
SUMMARY:Retrouve nous à l'Omnes Education !
DESCRIPTION:Nous serons présents au sein de l’Omnes Education le mercredi 22 Janvier de 12h à 14h. Viens nous rendre visite pour récupérer ton Freevélo’v\, t’inscrire ou juste papoter vélo. On a hâte de te rencontrer ! A bientôt ! 🚲
URL:https://freevelov.grandlyon.com/evenement/retrouve-nous-a-lomnes-education/
END:VEVENT
BEGIN:VEVENT
DTSTART;TZID=UTC:20250124T113000
DTEND;TZID=UTC:20250124T140000
DTSTAMP:20260423T070716
CREATED:20250116T135721Z
LAST-MODIFIED:20250116T140924Z
UID:10000261-1737718200-1737727200@freevelov.grandlyon.com
SUMMARY:Récupère ton Freevélo'v au sein de l'Iscom !
DESCRIPTION:Nous serons présents à l’ISCOM le jeudi 24 Janvier de 11h30 à 14h. Passe nous voir pour récupérer ton Freevélo’v\, t’inscrire ou juste papoter vélo. On a hâte de te voir ! A bientôt ! ☺️L’équipe Freevélo’v
URL:https://freevelov.grandlyon.com/evenement/recupere-ton-freevelov-au-sein-de-liscom/
END:VEVENT
BEGIN:VEVENT
DTSTART;TZID=UTC:20250129T103000
DTEND;TZID=UTC:20250129T140000
DTSTAMP:20260423T070716
CREATED:20250121T090411Z
LAST-MODIFIED:20250121T090413Z
UID:10000262-1738146600-1738159200@freevelov.grandlyon.com
SUMMARY:Retrouve l'équipe Freevélo'v est au sein de l'Esdac !
DESCRIPTION:Récupère ton Freevélo’v au sein de l’Iscom ! \n\n\n\nNous serons présents au sein de l’ESDAC le mercredi 29 Janvier de 11h30 à 14h. Passe nous voir pour récupérer ton Freevélo’v\, t’inscrire ou juste papoter vélo. On a hâte de te voir ! A bientôt ! ☺️L’équipe Freevélo’v
URL:https://freevelov.grandlyon.com/evenement/retrouve-lequipe-freevelov-est-au-sein-de-lesdac/
END:VEVENT
BEGIN:VEVENT
DTSTART;TZID=UTC:20250206T120000
DTEND;TZID=UTC:20250206T140000
DTSTAMP:20260423T070716
CREATED:20250204T155559Z
LAST-MODIFIED:20250204T155600Z
UID:10000263-1738843200-1738850400@freevelov.grandlyon.com
SUMMARY:Retrouve l'équipe Freevélo'v est au sein de l'Insa !
DESCRIPTION:Nous serons présents au sein de l’Insa le jeudi 06 Février de 12h à 14h. Passe nous voir pour récupérer ton Freevélo’v\, t’inscrire ou juste papoter vélo. L’équipe Freevélo’v à hâte de te voir !
URL:https://freevelov.grandlyon.com/evenement/retrouve-lequipe-freevelov-est-au-sein-de-linsa/
END:VEVENT
BEGIN:VEVENT
DTSTART;TZID=UTC:20250213T120000
DTEND;TZID=UTC:20250213T140000
DTSTAMP:20260423T070716
CREATED:20250205T125514Z
LAST-MODIFIED:20250205T125515Z
UID:10000265-1739448000-1739455200@freevelov.grandlyon.com
SUMMARY:Retrouve l'équipe Freevélo'v au sein de l'école Brassart !
DESCRIPTION:Nous serons présents au sein de l’école BRASSART le jeudi 13 Février 2025 de 12h à 14h. Passe nous voir pour récupérer ton Freevélo’v\, t’inscrire ou juste papoter vélo. On a hâte de te voir ! A bientôt ! ☺️L’équipe Freevélo’v
URL:https://freevelov.grandlyon.com/evenement/retrouve-lequipe-freevelov-au-sein-de-lecole-brassart-2/
END:VEVENT
BEGIN:VEVENT
DTSTART;TZID=UTC:20250220T120000
DTEND;TZID=UTC:20250220T140000
DTSTAMP:20260423T070716
CREATED:20250205T125404Z
LAST-MODIFIED:20250217T124826Z
UID:10000264-1740052800-1740060000@freevelov.grandlyon.com
SUMMARY:Retrouve l’équipe Freevélo’v au sein de l’Insa !
DESCRIPTION:Nous serons présents au sein de l’Insa le jeudi 20 Février de 12h à 14h. Passe nous voir pour récupérer ton Freevélo’v\, t’inscrire ou juste papoter vélo. L’équipe Freevélo’v à hâte de te voir !
URL:https://freevelov.grandlyon.com/evenement/retrouve-lequipe-freevelov-est-au-sein-de-linsa-2/
END:VEVENT
BEGIN:VEVENT
DTSTART;TZID=UTC:20250221T120000
DTEND;TZID=UTC:20250221T140000
DTSTAMP:20260423T070716
CREATED:20250205T125740Z
LAST-MODIFIED:20250205T125740Z
UID:10000266-1740139200-1740146400@freevelov.grandlyon.com
SUMMARY:Récupère ton Freevélo'v au sein de l'Ecema !
DESCRIPTION:Nous serons présents au sein de l’Ecema le vendredi 21 Février 2025 de 12h à 14h. Passe nous voir pour récupérer ton Freevélo’v\, t’inscrire ou juste papoter vélo. On a hâte de te voir ! A bientôt ! ☺️L’équipe Freevélo’v
URL:https://freevelov.grandlyon.com/evenement/recupere-ton-freevelov-au-sein-de-lecema/
END:VEVENT
BEGIN:VEVENT
DTSTART;TZID=UTC:20250313T120000
DTEND;TZID=UTC:20250313T140000
DTSTAMP:20260423T070716
CREATED:20250221T145007Z
LAST-MODIFIED:20250221T145008Z
UID:10000268-1741867200-1741874400@freevelov.grandlyon.com
SUMMARY:Viens récupérer ton Freevélo'v au sein de l'INSA !
DESCRIPTION:Nous serons présents au sein de l’INSA le jeudi 13 Mars 2025 de 12h à 14h. Passe nous voir pour récupérer ton Freevélo’v\, t’inscrire ou juste papoter vélo. On a hâte de te voir ! A bientôt ! ☺️L’équipe Freevélo’v
URL:https://freevelov.grandlyon.com/evenement/viens-recuperer-ton-freevelov-au-sein-de-linsa/
END:VEVENT
BEGIN:VEVENT
DTSTART;TZID=UTC:20250314T090000
DTEND;TZID=UTC:20250314T100000
DTSTAMP:20260423T070716
CREATED:20250312T130532Z
LAST-MODIFIED:20250312T130532Z
UID:10000270-1741942800-1741946400@freevelov.grandlyon.com
SUMMARY:Retrouve la team Freevélo'v au sein de la mission locale de Tassin !
DESCRIPTION:Nous serons présents au sein de la mission locale de Tassin le vendredi 14 Mars 2025 de 9h à 10h. Passe nous voir pour récupérer ton Freevélo’v\, t’inscrire ou juste papoter vélo. On a hâte de te voir ! A bientôt ! ☺️L’équipe Freevélo’v
URL:https://freevelov.grandlyon.com/evenement/retrouve-la-team-freevelov-au-sein-de-la-mission-locale-de-tassin/
END:VEVENT
BEGIN:VEVENT
DTSTART;TZID=UTC:20250319T120000
DTEND;TZID=UTC:20250319T140000
DTSTAMP:20260423T070716
CREATED:20250221T150351Z
LAST-MODIFIED:20250310T095334Z
UID:10000269-1742385600-1742392800@freevelov.grandlyon.com
SUMMARY:Retrouve la team Freevélo'v au sein du campus Renée Cassin.
DESCRIPTION:Nous serons présents au sein du campus Renée Cassin le mardi 19 Mars de 12h à 14h. Passe nous voir pour récupérer ton Freevélo’v\, t’inscrire ou juste papoter vélo. On a hâte de te voir ! A bientôt ! ☺️L’équipe Freevélo’v
URL:https://freevelov.grandlyon.com/evenement/retrouve-la-team-freevelov-au-sein-du-campus-renee-cassin/
END:VEVENT
BEGIN:VEVENT
DTSTART;TZID=UTC:20250320T120000
DTEND;TZID=UTC:20250320T140000
DTSTAMP:20260423T070716
CREATED:20250312T131302Z
LAST-MODIFIED:20250312T131406Z
UID:10000271-1742472000-1742479200@freevelov.grandlyon.com
SUMMARY:L'équipe Freevélo'v présente au sein du campus Strate !
DESCRIPTION:Hey ! Bonne nouvelle ! Nous serons présents au sein du campus Strate le jeudi 20 mars 2025 entre 12h et 14h. N’hésites pas à venir nous voir pour nous poser quelques questions\, papoter vélo et découvrir notre équipe (tu verras\, on a toujours le sourire! 😉) A bientôt !
URL:https://freevelov.grandlyon.com/evenement/lequipe-freevelov-presente-au-sein-du-campus-strate/
END:VEVENT
BEGIN:VEVENT
DTSTART;TZID=UTC:20250321T140000
DTEND;TZID=UTC:20250321T160000
DTSTAMP:20260423T070716
CREATED:20250321T091522Z
LAST-MODIFIED:20250321T091522Z
UID:10000272-1742565600-1742572800@freevelov.grandlyon.com
SUMMARY:Retrouve nous au sein d'Info Jeunes ! :)
DESCRIPTION:Hello ! Nous serons présents au sein d’Info jeunes le vendredi 21 mars de 14h à 16h. Passe nous voir pour récupérer ton Freevélo’v\, t’inscrire ou juste papoter vélo. L’équipe Freevélo’v à hâte de te voir !
URL:https://freevelov.grandlyon.com/evenement/retrouve-nous-au-sein-dinfo-jeunes/
END:VEVENT
BEGIN:VEVENT
DTSTART;TZID=UTC:20250325T120000
DTEND;TZID=UTC:20250325T140000
DTSTAMP:20260423T070716
CREATED:20250321T091717Z
LAST-MODIFIED:20250321T091718Z
UID:10000273-1742904000-1742911200@freevelov.grandlyon.com
SUMMARY:Récupère ton Freevélo'v au sein du campus Renée Cassin !
DESCRIPTION:Hello ! Nous serons dans le hall du campus Renée Cassin le mardi 25 mars de 12h à 14h ! Passe nous voir pour récupérer ton Freevélo’v\, t’inscrire ou juste papoter vélo. L’équipe Freevélo’v à hâte de te rencontrer ! 🙂
URL:https://freevelov.grandlyon.com/evenement/recupere-ton-freevelov-au-sein-du-campus-renee-cassin/
END:VEVENT
BEGIN:VEVENT
DTSTART;TZID=UTC:20250326T120000
DTEND;TZID=UTC:20250326T140000
DTSTAMP:20260423T070716
CREATED:20250321T092138Z
LAST-MODIFIED:20250321T092138Z
UID:10000274-1742990400-1742997600@freevelov.grandlyon.com
SUMMARY:L'équipe Freevélo'v à nouveau au sein de l'INSA ! 😁
DESCRIPTION:Et oui\, retrouve à nouveau l’équipe Freevélo’v au sein de l’INSA le mercredi 26 mars de 12h à 14h. Passe nous voir pour récupérer ton Freevélo’v\, échanger de bons plans avec notre équipe ou juste poser tes questions ! Nous avons hâte de te rencontrer !
URL:https://freevelov.grandlyon.com/evenement/lequipe-freevelov-a-nouveau-au-sein-de-linsa-%f0%9f%98%81/
END:VEVENT
BEGIN:VEVENT
DTSTART;TZID=UTC:20250327T120000
DTEND;TZID=UTC:20250327T140000
DTSTAMP:20260423T070716
CREATED:20250321T092627Z
LAST-MODIFIED:20250321T092627Z
UID:10000275-1743076800-1743084000@freevelov.grandlyon.com
SUMMARY:Bonne nouvelle : nous serons à Lyon 2 le 27/03/2025 !
DESCRIPTION:Hello ! Nous serons de nouveau présent à Lyon 2 (Bron)\, le 27 mars 2025 de 12h à 14h pour l’animation Café vélo. Passe nous voir pour tout savoir sur Freevélo’v\, t’inscrire et obtenir nos meilleurs conseils pour une mobilité écolo en ville. Tu pourras également récupérer ton Freevélo’v directement sur place ! A très vite ! 😁🚲
URL:https://freevelov.grandlyon.com/evenement/bonne-nouvelle-nous-serons-a-lyon-2-le-27-03-2025/
END:VEVENT
BEGIN:VEVENT
DTSTART;TZID=UTC:20250404T120000
DTEND;TZID=UTC:20250404T140000
DTSTAMP:20260423T070716
CREATED:20250327T164837Z
LAST-MODIFIED:20250327T164837Z
UID:10000284-1743768000-1743775200@freevelov.grandlyon.com
SUMMARY:Récupère ton Freevélo'v au sein du campus Lyon 2 Berges du Rhône !
DESCRIPTION:Hello ! Nous serons au campus Lyon 2 Berges du Rhône le 4 avril de 12h à 14h ! Passe nous voir pour récupérer ton Freevélo’v\, t’inscrire ou juste papoter vélo. L’équipe Freevélo’v à hâte de te rencontrer ! 🙂
URL:https://freevelov.grandlyon.com/evenement/recupere-ton-freevelov-au-sein-du-campus-lyon-2-berges-du-rhone/
END:VEVENT
BEGIN:VEVENT
DTSTART;TZID=UTC:20250410T120000
DTEND;TZID=UTC:20250410T140000
DTSTAMP:20260423T070716
CREATED:20250327T162055Z
LAST-MODIFIED:20250327T164436Z
UID:10000276-1744286400-1744293600@freevelov.grandlyon.com
SUMMARY:Récupère ton Freevélo'v au sein du campus Lyon 3 Manufacture !
DESCRIPTION:Hello ! Nous serons au campus Lyon 3 Manufacture le 10 avril de 12h à 14h ! Passe nous voir pour récupérer ton Freevélo’v\, t’inscrire ou juste papoter vélo. L’équipe Freevélo’v à hâte de te rencontrer ! 🙂
URL:https://freevelov.grandlyon.com/evenement/recupere-ton-freevelov-au-sein-du-campus-lyon-3-manufacture/
END:VEVENT
BEGIN:VEVENT
DTSTART;TZID=UTC:20250415T120000
DTEND;TZID=UTC:20250415T140000
DTSTAMP:20260423T070716
CREATED:20250327T162339Z
LAST-MODIFIED:20250327T162340Z
UID:10000277-1744718400-1744725600@freevelov.grandlyon.com
SUMMARY:Retrouve l’équipe Freevélo’v au sein de GEMA à Lyon 1er !
DESCRIPTION:Nous serons présents au sein de GEMA – 7 passage Panama\, 69001 LYON.  Le mardi 15 avril de 12h à 14h. Passe nous voir pour récupérer ton Freevélo’v\, t’inscrire ou juste papoter vélo. L’équipe Freevélo’v à hâte de te voir !
URL:https://freevelov.grandlyon.com/evenement/retrouve-lequipe-freevelov-au-sein-de-gema-a-lyon-1er/
END:VEVENT
BEGIN:VEVENT
DTSTART;TZID=UTC:20250416T123000
DTEND;TZID=UTC:20250416T133000
DTSTAMP:20260423T070716
CREATED:20250327T162756Z
LAST-MODIFIED:20250327T162757Z
UID:10000278-1744806600-1744810200@freevelov.grandlyon.com
SUMMARY:Retrouve-nous au sein GAME SUP ! :)
DESCRIPTION:Hello ! Nous serons présents au sein de Game Sup – 🎮 L’école supérieure des métiers du jeu vidéo à Lyon ! On sera là le mercredi 16 avril de 12h30 à 13h30. Passe nous voir pour récupérer ton Freevélo’v\, t’inscrire ou juste papoter vélo. L’équipe Freevélo’v à hâte de te voir !
URL:https://freevelov.grandlyon.com/evenement/retrouve-nous-au-sein-game-sup/
END:VEVENT
END:VCALENDAR