BEGIN:VCALENDAR
VERSION:2.0
PRODID:-//FreeVélo&#039;v - ECPv6.15.20//NONSGML v1.0//EN
CALSCALE:GREGORIAN
METHOD:PUBLISH
X-WR-CALNAME:FreeVélo&#039;v
X-ORIGINAL-URL:https://freevelov.grandlyon.com
X-WR-CALDESC:Évènements pour FreeVélo&#039;v
REFRESH-INTERVAL;VALUE=DURATION:PT1H
X-Robots-Tag:noindex
X-PUBLISHED-TTL:PT1H
BEGIN:VTIMEZONE
TZID:UTC
BEGIN:STANDARD
TZOFFSETFROM:+0000
TZOFFSETTO:+0000
TZNAME:UTC
DTSTART:20220101T000000
END:STANDARD
END:VTIMEZONE
BEGIN:VEVENT
DTSTART;TZID=UTC:20231018T173000
DTEND;TZID=UTC:20231018T190000
DTSTAMP:20260422T225338
CREATED:20231011T133121Z
LAST-MODIFIED:20231011T133122Z
UID:10000140-1697650200-1697655600@freevelov.grandlyon.com
SUMMARY:Fini le métro\, viens récupérer ton Freevélo'v
DESCRIPTION:Pour cela\, crée ton compte\, réserve un Freevélo’v de la durée du contrat de ton choix et hop\, tu n’as plus qu’à le récupérer à la résidence La Cité\, 1 avenue Jean Jaurés\, 69600 Oullins. Facile non ?
URL:https://freevelov.grandlyon.com/evenement/fini-le-metro-viens-recuperer-ton-freevelov/
END:VEVENT
BEGIN:VEVENT
DTSTART;TZID=UTC:20240206T110000
DTEND;TZID=UTC:20240206T140000
DTSTAMP:20260422T225338
CREATED:20240205T135040Z
LAST-MODIFIED:20240205T135040Z
UID:10000141-1707217200-1707228000@freevelov.grandlyon.com
SUMMARY:Viens récupérer ton Freevélo'v sur le campus Porte des Alpes - Lyon 2 !
DESCRIPTION:Cette année\, nous serons présents sur différents campus étudiants pour permettre à tous de venir récupérer son Freevélo’v ! 🙂  \n\n\n\nLe mardi 06/02/2024\, rendez-vous devant la maison de l’étudiant du campus Porte des Alpes à Bron. \n\n\n\nVoici l’adresse : 160 bd Université\, 69500 Bron
URL:https://freevelov.grandlyon.com/evenement/viens-recuperer-ton-freevelov-sur-le-campus-porte-des-alpes-lyon-2/
END:VEVENT
BEGIN:VEVENT
DTSTART;TZID=UTC:20240213T110000
DTEND;TZID=UTC:20240213T140000
DTSTAMP:20260422T225338
CREATED:20240205T141710Z
LAST-MODIFIED:20240205T141711Z
UID:10000142-1707822000-1707832800@freevelov.grandlyon.com
SUMMARY:Viens récupérer ton Freevélo'v sur le campus Berges du Rhône - Lyon 2 !
DESCRIPTION:Cette année\, nous serons présents sur différents campus étudiants pour permettre à tous de venir récupérer son Freevélo’v ! 🙂 \n\n\n\nLe mardi 13/02/2024\, rendez-vous sur le campus Berges du Rhône situé dans le 7ème arrondissement de Lyon. \n\n\n\nA bientôt sur votre campus ou en agence ! 😉
URL:https://freevelov.grandlyon.com/evenement/viens-recuperer-ton-freevelov-sur-le-campus-berges-du-rhone-lyon-2/
END:VEVENT
BEGIN:VEVENT
DTSTART;TZID=UTC:20240227T110000
DTEND;TZID=UTC:20240227T143000
DTSTAMP:20260422T225338
CREATED:20240219T111249Z
LAST-MODIFIED:20240227T153647Z
UID:10000143-1709031600-1709044200@freevelov.grandlyon.com
SUMMARY:Viens récupérer ton Freevélo’v à  l'ECEMA
DESCRIPTION:Cette année\, nous serons présents sur différents campus étudiants pour permettre à tous de venir récupérer son Freevélo’v ! 🙂 \n\n\n\nLe mardi 27/02/2024\, rendez-vous au 29 avenue Leclerc 69007 à l’école ECEMA  \n\n\n\nA bientôt sur votre campus ou en agence ! 😉
URL:https://freevelov.grandlyon.com/evenement/viens-recuperer-ton-freevelov-a-lecema/
END:VEVENT
BEGIN:VEVENT
DTSTART;TZID=UTC:20240229T110000
DTEND;TZID=UTC:20240229T143000
DTSTAMP:20260422T225338
CREATED:20240220T084808Z
LAST-MODIFIED:20240227T153815Z
UID:10000144-1709204400-1709217000@freevelov.grandlyon.com
SUMMARY:Viens récupérer ton Freevélo'v à l'ECEMA
DESCRIPTION:Nous serons présents lors d’une deuxième date sur le campus de l’ECEMA afin de rencontrer un maximum d’étudiants ! 🙂 Le jeudi 29/02/2024\, rendez-vous au 29 avenue Leclerc 69007 à l’école ECEMA pour récupérer votre vélo !  \n\n\n\nA bientôt sur votre campus ou en agence ! 😉
URL:https://freevelov.grandlyon.com/evenement/viens-recuperer-ton-freevelov-a-lecema-2/
END:VEVENT
BEGIN:VEVENT
DTSTART;TZID=UTC:20240304T110000
DTEND;TZID=UTC:20240304T143000
DTSTAMP:20260422T225338
CREATED:20240220T085317Z
LAST-MODIFIED:20240220T085317Z
UID:10000145-1709550000-1709562600@freevelov.grandlyon.com
SUMMARY:Viens récupérer ton Freevélo'v à l'école GEMA
DESCRIPTION:Cette année\, nous serons présents sur différents campus étudiants pour permettre à tous de venir récupérer son Freevélo’v ! 🙂 Le lundi 04/03/2024\, rendez-vous au 11 passage du panama 69002 à l’école GEMA. \n\n\n\nA bientôt sur votre campus ou en agence ! 😉
URL:https://freevelov.grandlyon.com/evenement/viens-recuperer-ton-freevelov-a-lecole-gema/
END:VEVENT
BEGIN:VEVENT
DTSTART;TZID=UTC:20240305T110000
DTEND;TZID=UTC:20240305T143000
DTSTAMP:20260422T225338
CREATED:20240220T085837Z
LAST-MODIFIED:20240220T085838Z
UID:10000146-1709636400-1709649000@freevelov.grandlyon.com
SUMMARY:Viens récupérer ton Freevélo’v sur le campus Porte des Alpes - Lyon 2 !
DESCRIPTION:Cette année\, nous serons présents sur différents campus étudiants pour permettre à tous de venir récupérer son Freevélo’v ! 🙂 Le mardi 05/03/2024\, rendez-vous devant la maison de l’étudiant du campus Porte des Alpes à Bron.  \n\n\n\n160 bd Université\, 69500 Bron.  \n\n\n\nA très vite sur votre campus ! 😉
URL:https://freevelov.grandlyon.com/evenement/viens-recuperer-ton-freevelov-sur-le-campus-porte-des-alpes-lyon-2-2/
END:VEVENT
BEGIN:VEVENT
DTSTART;TZID=UTC:20240307T110000
DTEND;TZID=UTC:20240307T143000
DTSTAMP:20260422T225338
CREATED:20240220T090724Z
LAST-MODIFIED:20240220T090724Z
UID:10000147-1709809200-1709821800@freevelov.grandlyon.com
SUMMARY:Viens récupérer ton Freevélo'v à l'école GEMA
DESCRIPTION:Le jeudi 07/03/2024\, rendez-vous au 11 passage du panama 69002 pour récupérer votre Freevélo’v.  \n\n\n\n A très vite sur votre campus ! 😉
URL:https://freevelov.grandlyon.com/evenement/viens-recuperer-ton-freevelov-a-lecole-gema-2/
END:VEVENT
BEGIN:VEVENT
DTSTART;TZID=UTC:20240311T110000
DTEND;TZID=UTC:20240311T143000
DTSTAMP:20260422T225338
CREATED:20240220T091130Z
LAST-MODIFIED:20240220T091131Z
UID:10000148-1710154800-1710167400@freevelov.grandlyon.com
SUMMARY:Viens récupérer ton Freevélo'v à l'ISCOM
DESCRIPTION:Cette année\, nous serons présents sur différents campus étudiants pour permettre à tous de venir récupérer son Freevélo’v ! 🙂 Le lundi 11/03/2024\, rendez-vous au 22 bd Tchécoslovaques\, 69007 Lyon.  \n\n\n\nA bientôt sur votre campus ou en agence ! 😉
URL:https://freevelov.grandlyon.com/evenement/viens-recuperer-ton-freevelov-a-liscom/
END:VEVENT
BEGIN:VEVENT
DTSTART;TZID=UTC:20240312T110000
DTEND;TZID=UTC:20240312T143000
DTSTAMP:20260422T225338
CREATED:20240220T092037Z
LAST-MODIFIED:20240220T092038Z
UID:10000149-1710241200-1710253800@freevelov.grandlyon.com
SUMMARY:Nouvelle date sur le campus Berges du Rhône - Lyon 2 !
DESCRIPTION:Cette année\, nous serons présents sur différents campus étudiants pour permettre à tous de venir récupérer son Freevélo’v ! 🙂 Le mardi 12/03/2024\, rendez-vous sur le campus Berges du Rhône situé dans le 7ème arrondissement de Lyon.  \n\n\n\nA bientôt sur votre campus ou en agence ! 😉
URL:https://freevelov.grandlyon.com/evenement/nouvelle-date-sur-le-campus-berges-du-rhone-lyon-2/
END:VEVENT
BEGIN:VEVENT
DTSTART;TZID=UTC:20240313T120000
DTEND;TZID=UTC:20240313T130000
DTSTAMP:20260422T225338
CREATED:20240305T150044Z
LAST-MODIFIED:20240305T150045Z
UID:10000234-1710331200-1710334800@freevelov.grandlyon.com
SUMMARY:Viens récupérer ton freevélo’v à l'ITECH
DESCRIPTION:Cette année\, nous serons présents sur différents campus étudiants pour permettre à tous de venir récupérer son Freevélo’v ! 🙂 Le mercredi 13/03/2024\, rendez-vous à Ecully au 87 chemin Mouilles. A bientôt sur votre campus ou en agence ! 😉
URL:https://freevelov.grandlyon.com/evenement/viens-recuperer-ton-freevelov-a-litech/
END:VEVENT
BEGIN:VEVENT
DTSTART;TZID=UTC:20240314T110000
DTEND;TZID=UTC:20240314T143000
DTSTAMP:20260422T225338
CREATED:20240220T092335Z
LAST-MODIFIED:20240305T145531Z
UID:10000230-1710414000-1710426600@freevelov.grandlyon.com
SUMMARY:Ecole Emile Cohl : viens récupérer ton Freevélo'v!
DESCRIPTION:Cette année\, nous serons présents sur différents campus étudiants pour permettre à tous de venir récupérer son Freevélo’v ! 🙂 Le jeudi 14/03/2024\, rendez-vous au 1 rue Felix Rollet\, 69003 Lyon.  \n\n\n\nA bientôt sur votre campus ou en agence ! 😉
URL:https://freevelov.grandlyon.com/evenement/ecole-emile-cohl-viens-recuperer-ton-freevelov/
END:VEVENT
BEGIN:VEVENT
DTSTART;TZID=UTC:20240319T110000
DTEND;TZID=UTC:20240319T140000
DTSTAMP:20260422T225338
CREATED:20240226T094302Z
LAST-MODIFIED:20240226T094303Z
UID:10000233-1710846000-1710856800@freevelov.grandlyon.com
SUMMARY:Viens récupérer ton freevélo'v à Brassart
DESCRIPTION:Cette année\, nous serons présents sur différents campus étudiants pour permettre à tous de venir récupérer son Freevélo’v ! 🙂 Le mardi 19/03/2024\, rendez-vous au 2 av CHAT de Gerland\, 69007 Lyon. A bientôt sur votre campus ou en agence ! 😉
URL:https://freevelov.grandlyon.com/evenement/viens-recuperer-ton-freevelov-a-brassart/
END:VEVENT
BEGIN:VEVENT
DTSTART;TZID=UTC:20240326T110000
DTEND;TZID=UTC:20240326T140000
DTSTAMP:20260422T225338
CREATED:20240307T150009Z
LAST-MODIFIED:20240307T150009Z
UID:10000235-1711450800-1711461600@freevelov.grandlyon.com
SUMMARY:Viens récupérer ton freevélo’v à l'école OCELLIA
DESCRIPTION:Cette année\, nous serons présents sur différents campus étudiants pour permettre à tous de venir récupérer son Freevélo’v ! 🙂 Le mardi 26/03/2024\, rendez-vous au 20 rue de la Claire\, 69009 Lyon. A bientôt sur votre campus ou en agence ! 😉
URL:https://freevelov.grandlyon.com/evenement/viens-recuperer-ton-freevelov-a-lecole-ocellia/
END:VEVENT
BEGIN:VEVENT
DTSTART;TZID=UTC:20240409T110000
DTEND;TZID=UTC:20240409T143000
DTSTAMP:20260422T225338
CREATED:20240220T113039Z
LAST-MODIFIED:20240220T113039Z
UID:10000231-1712660400-1712673000@freevelov.grandlyon.com
SUMMARY:Viens récupérer ton Freevélo'v sur le campus Porte des Alpes - Lyon 2 !
DESCRIPTION:Cette année\, nous serons présents sur différents campus étudiants pour permettre à tous de venir récupérer son Freevélo’v ! 🙂 Le mardi 09/04/2024\, rendez-vous devant la maison de l’étudiant du campus Porte des Alpes à Bron. 160 bd Université\, 69500 Bron.  \n\n\n\nA très vite sur votre campus ! 😉
URL:https://freevelov.grandlyon.com/evenement/viens-recuperer-ton-freevelov-sur-le-campus-porte-des-alpes-lyon-2-3/
END:VEVENT
BEGIN:VEVENT
DTSTART;TZID=UTC:20240411T120000
DTEND;TZID=UTC:20240411T133000
DTSTAMP:20260422T225338
CREATED:20240328T144942Z
LAST-MODIFIED:20240328T144942Z
UID:10000236-1712836800-1712842200@freevelov.grandlyon.com
SUMMARY:Viens récupérer ton freevélo'v à GAME SUP
DESCRIPTION:Cette année\, nous serons présents sur différents campus étudiants pour permettre à tous de venir récupérer son Freevélo’v ! 🙂 Le jeudi 11/04/2024\, rendez-vous au 91 Cours Charlemagne\, 69002. A bientôt sur votre campus ou en agence ! 😉
URL:https://freevelov.grandlyon.com/evenement/viens-recuperer-ton-freevelov-a-game-sup/
END:VEVENT
BEGIN:VEVENT
DTSTART;TZID=UTC:20240412T100000
DTEND;TZID=UTC:20240412T123000
DTSTAMP:20260422T225338
CREATED:20240402T083526Z
LAST-MODIFIED:20240402T083710Z
UID:10000238-1712916000-1712925000@freevelov.grandlyon.com
SUMMARY:Viens récupérer ton Freevélo’v à la mission locale de Tassin !
DESCRIPTION:Cette année\, nous serons présents à la Mission locale de Tassin pour permettre à tous de venir récupérer votre Freevélo’v ! 🙂 Le vendredi 12/04/2024\, rendez-vous au 3 Av. Général Brosset\, 69160 Tassin-la-Demi-Lune. \n\n\n\nA très vite ! 😉
URL:https://freevelov.grandlyon.com/evenement/viens-recuperer-ton-freevelov-a-la-mission-locale-de-tassin/
END:VEVENT
BEGIN:VEVENT
DTSTART;TZID=UTC:20240415T113000
DTEND;TZID=UTC:20240415T140000
DTSTAMP:20260422T225338
CREATED:20250402T110619Z
LAST-MODIFIED:20250402T144104Z
UID:10000287-1713180600-1713189600@freevelov.grandlyon.com
SUMMARY:Mai à vélo > Viens récupérer ton Freevélo’v à l'ENTPE
DESCRIPTION:Participer à une animation spéciale Mai à vélo à l’ENTPE le 15 mai\, de 14h à 16h ! \n\n\n\nVenez échanger avec notre équipe et récupérer votre guide pratique Freevélo’v.🚀🎓 \n\n\n\nRendez-vous sur le campus ENTPE : 3 rue Maurice Audin\, 69120 Vaulx-en-Velin. \n\n\n\n\n\nÀ bientôt sur le campus ENTPE ou en agence ! 😉
URL:https://freevelov.grandlyon.com/evenement/mai-a-velo-viens-recuperer-ton-freevelov-a-lentpe/
END:VEVENT
BEGIN:VEVENT
DTSTART;TZID=UTC:20240415T113000
DTEND;TZID=UTC:20240415T140000
DTSTAMP:20260422T225338
CREATED:20240404T093220Z
LAST-MODIFIED:20240404T093221Z
UID:10000239-1713180600-1713189600@freevelov.grandlyon.com
SUMMARY:Viens récupérer ton Freevélo’v à l'ENTPE
DESCRIPTION:Cette année\, nous serons présents sur différents campus étudiants pour permettre à tous de venir récupérer son Freevélo’v ! 🙂 Le lundi 15/04/2024\, rendez-vous au 3 rue Maurice Audin\, 69120 Vaulx en Velin.  \n\n\n\n\n\n A bientôt sur votre campus ou en agence ! 😉
URL:https://freevelov.grandlyon.com/evenement/viens-recuperer-ton-freevelov-a-lentpe/
END:VEVENT
BEGIN:VEVENT
DTSTART;TZID=UTC:20240416T110000
DTEND;TZID=UTC:20240416T143000
DTSTAMP:20260422T225338
CREATED:20240220T113437Z
LAST-MODIFIED:20240220T113524Z
UID:10000232-1713265200-1713277800@freevelov.grandlyon.com
SUMMARY:Viens récupérer ton Freevélo'v sur le campus Berges du Rhône - Lyon 2 !
DESCRIPTION:Cette année\, nous serons présents sur différents campus étudiants pour permettre à tous de venir récupérer son Freevélo’v ! 🙂 Le mardi 16/04/2024\, rendez-vous sur le campus Berges du Rhône situé dans le 7ème arrondissement de Lyon.  \n\n\n\nA bientôt sur votre campus ou en agence ! 😉
URL:https://freevelov.grandlyon.com/evenement/viens-recuperer-ton-freevelov-sur-le-campus-berges-du-rhone-lyon-2-2/
END:VEVENT
BEGIN:VEVENT
DTSTART;TZID=UTC:20240417T133000
DTEND;TZID=UTC:20240417T160000
DTSTAMP:20260422T225338
CREATED:20240412T135743Z
LAST-MODIFIED:20240412T135743Z
UID:10000150-1713360600-1713369600@freevelov.grandlyon.com
SUMMARY:Viens récupérer ton freevélo’v chez Médialys !
DESCRIPTION:Cette année\, nous serons présents au sein de l’association Médialys pour permettre à tous de venir récupérer son Freevélo’v ! 🙂 Le mercredi 17/04/2024\, rendez-vous au 60 rue Michel Berthet 69009 Lyon (Gorge de loup). A bientôt ! 😉
URL:https://freevelov.grandlyon.com/evenement/viens-recuperer-ton-freevelov-chez-medialys/
END:VEVENT
BEGIN:VEVENT
DTSTART;TZID=UTC:20240422T123000
DTEND;TZID=UTC:20240426T140000
DTSTAMP:20260422T225338
CREATED:20240328T145217Z
LAST-MODIFIED:20240328T145300Z
UID:10000237-1713789000-1714140000@freevelov.grandlyon.com
SUMMARY:Semaine spéciale à Sciences U
DESCRIPTION:Nous serons présents la semaine du 22/04 au 26/04 sur le temps du midi au sein du campus Sciences U au 53 crs Albert Thomas\, 69003. Nous vous attendons nombreux 😉 ! N’hésitez pas à réserver votre vélo en amont.
URL:https://freevelov.grandlyon.com/evenement/semaine-speciale-a-sciences-u/
END:VEVENT
BEGIN:VEVENT
DTSTART;TZID=UTC:20240429T113000
DTEND;TZID=UTC:20240429T133000
DTSTAMP:20260422T225338
CREATED:20240419T113410Z
LAST-MODIFIED:20240419T113411Z
UID:10000154-1714390200-1714397400@freevelov.grandlyon.com
SUMMARY:Viens récupérer ton Freevélo’v à l’AFIP
DESCRIPTION:Cette année\, nous serons présents sur différents campus étudiants pour permettre à tous de venir récupérer son Freevélo’v ! 🙂 Le lundi 29/04/2024\, rendez-vous à Villeurbanne au 40 rue des Antonins 69100. A bientôt sur votre campus ou en agence ! 😉
URL:https://freevelov.grandlyon.com/evenement/viens-recuperer-ton-freevelov-a-lafip/
END:VEVENT
BEGIN:VEVENT
DTSTART;TZID=UTC:20240430T133000
DTEND;TZID=UTC:20240430T160000
DTSTAMP:20260422T225338
CREATED:20240413T080705Z
LAST-MODIFIED:20240413T080706Z
UID:10000151-1714483800-1714492800@freevelov.grandlyon.com
SUMMARY:Viens récupérer ton freevélo’v chez Médialys !
DESCRIPTION:Cette année\, nous serons présents au sein de l’association Médialys pour permettre à tous de venir récupérer son Freevélo’v ! 🙂 Le mercredi 30/04/2024\, rendez-vous au 419 Cours Emile Zola 69100 Villeurbanne (Laurent Bonnevay). A bientôt ! 😉
URL:https://freevelov.grandlyon.com/evenement/viens-recuperer-ton-freevelov-chez-medialys-2/
END:VEVENT
BEGIN:VEVENT
DTSTART;TZID=UTC:20240513T090000
DTEND;TZID=UTC:20240513T170000
DTSTAMP:20260422T225338
CREATED:20240528T110717Z
LAST-MODIFIED:20240528T111408Z
UID:10000245-1715590800-1715619600@freevelov.grandlyon.com
SUMMARY:Viens récupérer ton freevélo’v au sein de l’association Unis cité !
DESCRIPTION:Cette année\, nous serons présents au sein de l’association Uniscité pour permettre à tous de venir récupérer son Freevélo’v ! 🙂 Le mercredi 13/06/2024\, rendez-vous au 20 rue du lac\, 69003 Lyon. A bientôt ! 😉
URL:https://freevelov.grandlyon.com/evenement/viens-recuperer-ton-freevelov-au-sein-de-lassociation-unis-cite/
END:VEVENT
BEGIN:VEVENT
DTSTART;TZID=UTC:20240514T100000
DTEND;TZID=UTC:20240514T120000
DTSTAMP:20260422T225338
CREATED:20240502T091636Z
LAST-MODIFIED:20240502T091637Z
UID:10000155-1715680800-1715688000@freevelov.grandlyon.com
SUMMARY:Viens récupérer ton freevélo’v au sein de la maison des services publics !
DESCRIPTION:Cette année\, nous serons présents au sein de la maison des services publics pour permettre à tous de venir récupérer son Freevélo’v ! 🙂 Le mardi 14/05/2024\, rendez-vous au 4 All. Henri Georges Clouzot\, 69100 Villeurbanne !  \n\n\n\n A bientôt ! 😉
URL:https://freevelov.grandlyon.com/evenement/viens-recuperer-ton-freevelov-au-sein-de-la-maison-des-services-publics/
END:VEVENT
BEGIN:VEVENT
DTSTART;TZID=UTC:20240516T113000
DTEND;TZID=UTC:20240516T140000
DTSTAMP:20260422T225338
CREATED:20240503T145319Z
LAST-MODIFIED:20240513T132337Z
UID:10000156-1715859000-1715868000@freevelov.grandlyon.com
SUMMARY:Viens récupérer ton freevélo’v au sein de l'Arfrips !
DESCRIPTION:Cette année\, nous serons présents au sein de différents campus pour permettre à tous de venir récupérer son Freevélo’v ! 🙂 Le jeudi 16/05/2024\, rendez-vous au centre de formation Arfrips au 10 impasse Pierre Baizet 69009 Lyon ! A bientôt ! 😉
URL:https://freevelov.grandlyon.com/evenement/viens-recuperer-ton-freevelov-au-sein-darfrips/
END:VEVENT
BEGIN:VEVENT
DTSTART;TZID=UTC:20240517T080000
DTEND;TZID=UTC:20240517T170000
DTSTAMP:20260422T225338
CREATED:20240517T100827Z
LAST-MODIFIED:20240517T100828Z
UID:10000159-1715932800-1715965200@freevelov.grandlyon.com
SUMMARY:Viens récupérer ton freevélo’v au sein de l'association LAHSO !
DESCRIPTION:Cette année\, nous serons présents au sein de l’association LAHSO pour permettre à tous de venir récupérer son Freevélo’v ! 🙂 Le vendredi 24/05/2024\, rendez-vous au 259 rue Paul Bert 69003 LYON. A bientôt !😉
URL:https://freevelov.grandlyon.com/evenement/viens-recuperer-ton-freevelov-au-sein-de-lassociation-lahso/
END:VEVENT
BEGIN:VEVENT
DTSTART;TZID=UTC:20240521T110000
DTEND;TZID=UTC:20240521T140000
DTSTAMP:20260422T225338
CREATED:20240513T132218Z
LAST-MODIFIED:20240513T132219Z
UID:10000158-1716289200-1716300000@freevelov.grandlyon.com
SUMMARY:Viens récupérer ton Freevélo'v sur le campus Porte des Alpes - Lyon 2 !
DESCRIPTION:Cette année\, nous serons présents sur différents campus étudiants pour permettre à tous de venir récupérer son Freevélo’v ! 🙂 Le mardi 21/05/2024\, rendez-vous devant la maison de l’étudiant du campus Porte des Alpes à Bron. 160 bd Université\, 69500 Bron. A très vite sur votre campus ! 😉
URL:https://freevelov.grandlyon.com/evenement/viens-recuperer-ton-freevelov-sur-le-campus-porte-des-alpes-lyon-2-4/
END:VEVENT
BEGIN:VEVENT
DTSTART;TZID=UTC:20240522T133000
DTEND;TZID=UTC:20240522T170000
DTSTAMP:20260422T225338
CREATED:20240413T081020Z
LAST-MODIFIED:20240413T081253Z
UID:10000152-1716384600-1716397200@freevelov.grandlyon.com
SUMMARY:Viens récupérer ton freevélo’v au sein d'Info Jeunes !
DESCRIPTION:Cette année\, nous serons présents au sein de l’association Info Jeunes pour permettre à tous de venir récupérer son Freevélo’v ! 🙂 Le mercredi 22/05/2024\, rendez-vous au 66 cours Charlemagne 69002 Lyon. A bientôt ! 😉
URL:https://freevelov.grandlyon.com/evenement/viens-recuperer-ton-freevelov-chez-info-jeunes/
END:VEVENT
END:VCALENDAR