BEGIN:VCALENDAR
VERSION:2.0
PRODID:-//FreeVélo&#039;v - ECPv6.15.20//NONSGML v1.0//EN
CALSCALE:GREGORIAN
METHOD:PUBLISH
X-WR-CALNAME:FreeVélo&#039;v
X-ORIGINAL-URL:https://freevelov.grandlyon.com
X-WR-CALDESC:Évènements pour FreeVélo&#039;v
REFRESH-INTERVAL;VALUE=DURATION:PT1H
X-Robots-Tag:noindex
X-PUBLISHED-TTL:PT1H
BEGIN:VTIMEZONE
TZID:UTC
BEGIN:STANDARD
TZOFFSETFROM:+0000
TZOFFSETTO:+0000
TZNAME:UTC
DTSTART:20230101T000000
END:STANDARD
END:VTIMEZONE
BEGIN:VEVENT
DTSTART;TZID=UTC:20240417T133000
DTEND;TZID=UTC:20240417T160000
DTSTAMP:20260423T021419
CREATED:20240412T135743Z
LAST-MODIFIED:20240412T135743Z
UID:10000150-1713360600-1713369600@freevelov.grandlyon.com
SUMMARY:Viens récupérer ton freevélo’v chez Médialys !
DESCRIPTION:Cette année\, nous serons présents au sein de l’association Médialys pour permettre à tous de venir récupérer son Freevélo’v ! 🙂 Le mercredi 17/04/2024\, rendez-vous au 60 rue Michel Berthet 69009 Lyon (Gorge de loup). A bientôt ! 😉
URL:https://freevelov.grandlyon.com/evenement/viens-recuperer-ton-freevelov-chez-medialys/
END:VEVENT
BEGIN:VEVENT
DTSTART;TZID=UTC:20240422T123000
DTEND;TZID=UTC:20240426T140000
DTSTAMP:20260423T021419
CREATED:20240328T145217Z
LAST-MODIFIED:20240328T145300Z
UID:10000237-1713789000-1714140000@freevelov.grandlyon.com
SUMMARY:Semaine spéciale à Sciences U
DESCRIPTION:Nous serons présents la semaine du 22/04 au 26/04 sur le temps du midi au sein du campus Sciences U au 53 crs Albert Thomas\, 69003. Nous vous attendons nombreux 😉 ! N’hésitez pas à réserver votre vélo en amont.
URL:https://freevelov.grandlyon.com/evenement/semaine-speciale-a-sciences-u/
END:VEVENT
BEGIN:VEVENT
DTSTART;TZID=UTC:20240429T113000
DTEND;TZID=UTC:20240429T133000
DTSTAMP:20260423T021419
CREATED:20240419T113410Z
LAST-MODIFIED:20240419T113411Z
UID:10000154-1714390200-1714397400@freevelov.grandlyon.com
SUMMARY:Viens récupérer ton Freevélo’v à l’AFIP
DESCRIPTION:Cette année\, nous serons présents sur différents campus étudiants pour permettre à tous de venir récupérer son Freevélo’v ! 🙂 Le lundi 29/04/2024\, rendez-vous à Villeurbanne au 40 rue des Antonins 69100. A bientôt sur votre campus ou en agence ! 😉
URL:https://freevelov.grandlyon.com/evenement/viens-recuperer-ton-freevelov-a-lafip/
END:VEVENT
BEGIN:VEVENT
DTSTART;TZID=UTC:20240430T133000
DTEND;TZID=UTC:20240430T160000
DTSTAMP:20260423T021419
CREATED:20240413T080705Z
LAST-MODIFIED:20240413T080706Z
UID:10000151-1714483800-1714492800@freevelov.grandlyon.com
SUMMARY:Viens récupérer ton freevélo’v chez Médialys !
DESCRIPTION:Cette année\, nous serons présents au sein de l’association Médialys pour permettre à tous de venir récupérer son Freevélo’v ! 🙂 Le mercredi 30/04/2024\, rendez-vous au 419 Cours Emile Zola 69100 Villeurbanne (Laurent Bonnevay). A bientôt ! 😉
URL:https://freevelov.grandlyon.com/evenement/viens-recuperer-ton-freevelov-chez-medialys-2/
END:VEVENT
BEGIN:VEVENT
DTSTART;TZID=UTC:20240513T090000
DTEND;TZID=UTC:20240513T170000
DTSTAMP:20260423T021419
CREATED:20240528T110717Z
LAST-MODIFIED:20240528T111408Z
UID:10000245-1715590800-1715619600@freevelov.grandlyon.com
SUMMARY:Viens récupérer ton freevélo’v au sein de l’association Unis cité !
DESCRIPTION:Cette année\, nous serons présents au sein de l’association Uniscité pour permettre à tous de venir récupérer son Freevélo’v ! 🙂 Le mercredi 13/06/2024\, rendez-vous au 20 rue du lac\, 69003 Lyon. A bientôt ! 😉
URL:https://freevelov.grandlyon.com/evenement/viens-recuperer-ton-freevelov-au-sein-de-lassociation-unis-cite/
END:VEVENT
BEGIN:VEVENT
DTSTART;TZID=UTC:20240514T100000
DTEND;TZID=UTC:20240514T120000
DTSTAMP:20260423T021419
CREATED:20240502T091636Z
LAST-MODIFIED:20240502T091637Z
UID:10000155-1715680800-1715688000@freevelov.grandlyon.com
SUMMARY:Viens récupérer ton freevélo’v au sein de la maison des services publics !
DESCRIPTION:Cette année\, nous serons présents au sein de la maison des services publics pour permettre à tous de venir récupérer son Freevélo’v ! 🙂 Le mardi 14/05/2024\, rendez-vous au 4 All. Henri Georges Clouzot\, 69100 Villeurbanne !  \n\n\n\n A bientôt ! 😉
URL:https://freevelov.grandlyon.com/evenement/viens-recuperer-ton-freevelov-au-sein-de-la-maison-des-services-publics/
END:VEVENT
BEGIN:VEVENT
DTSTART;TZID=UTC:20240516T113000
DTEND;TZID=UTC:20240516T140000
DTSTAMP:20260423T021419
CREATED:20240503T145319Z
LAST-MODIFIED:20240513T132337Z
UID:10000156-1715859000-1715868000@freevelov.grandlyon.com
SUMMARY:Viens récupérer ton freevélo’v au sein de l'Arfrips !
DESCRIPTION:Cette année\, nous serons présents au sein de différents campus pour permettre à tous de venir récupérer son Freevélo’v ! 🙂 Le jeudi 16/05/2024\, rendez-vous au centre de formation Arfrips au 10 impasse Pierre Baizet 69009 Lyon ! A bientôt ! 😉
URL:https://freevelov.grandlyon.com/evenement/viens-recuperer-ton-freevelov-au-sein-darfrips/
END:VEVENT
BEGIN:VEVENT
DTSTART;TZID=UTC:20240517T080000
DTEND;TZID=UTC:20240517T170000
DTSTAMP:20260423T021419
CREATED:20240517T100827Z
LAST-MODIFIED:20240517T100828Z
UID:10000159-1715932800-1715965200@freevelov.grandlyon.com
SUMMARY:Viens récupérer ton freevélo’v au sein de l'association LAHSO !
DESCRIPTION:Cette année\, nous serons présents au sein de l’association LAHSO pour permettre à tous de venir récupérer son Freevélo’v ! 🙂 Le vendredi 24/05/2024\, rendez-vous au 259 rue Paul Bert 69003 LYON. A bientôt !😉
URL:https://freevelov.grandlyon.com/evenement/viens-recuperer-ton-freevelov-au-sein-de-lassociation-lahso/
END:VEVENT
BEGIN:VEVENT
DTSTART;TZID=UTC:20240521T110000
DTEND;TZID=UTC:20240521T140000
DTSTAMP:20260423T021419
CREATED:20240513T132218Z
LAST-MODIFIED:20240513T132219Z
UID:10000158-1716289200-1716300000@freevelov.grandlyon.com
SUMMARY:Viens récupérer ton Freevélo'v sur le campus Porte des Alpes - Lyon 2 !
DESCRIPTION:Cette année\, nous serons présents sur différents campus étudiants pour permettre à tous de venir récupérer son Freevélo’v ! 🙂 Le mardi 21/05/2024\, rendez-vous devant la maison de l’étudiant du campus Porte des Alpes à Bron. 160 bd Université\, 69500 Bron. A très vite sur votre campus ! 😉
URL:https://freevelov.grandlyon.com/evenement/viens-recuperer-ton-freevelov-sur-le-campus-porte-des-alpes-lyon-2-4/
END:VEVENT
BEGIN:VEVENT
DTSTART;TZID=UTC:20240522T133000
DTEND;TZID=UTC:20240522T170000
DTSTAMP:20260423T021419
CREATED:20240413T081020Z
LAST-MODIFIED:20240413T081253Z
UID:10000152-1716384600-1716397200@freevelov.grandlyon.com
SUMMARY:Viens récupérer ton freevélo’v au sein d'Info Jeunes !
DESCRIPTION:Cette année\, nous serons présents au sein de l’association Info Jeunes pour permettre à tous de venir récupérer son Freevélo’v ! 🙂 Le mercredi 22/05/2024\, rendez-vous au 66 cours Charlemagne 69002 Lyon. A bientôt ! 😉
URL:https://freevelov.grandlyon.com/evenement/viens-recuperer-ton-freevelov-chez-info-jeunes/
END:VEVENT
BEGIN:VEVENT
DTSTART;TZID=UTC:20240523T120000
DTEND;TZID=UTC:20240523T130000
DTSTAMP:20260423T021419
CREATED:20240513T132023Z
LAST-MODIFIED:20240513T132023Z
UID:10000157-1716465600-1716469200@freevelov.grandlyon.com
SUMMARY:Viens récupérer ton freevélo’v au sein de l'école ORT !
DESCRIPTION:Cette année\, nous serons présents sur différents campus pour permettre à tous de venir récupérer son Freevélo’v ! 🙂 Le jeudi 23/05/2024\, rendez-vous au 133 r Marius Berliet\, 69008 Lyon. A bientôt ! 😉
URL:https://freevelov.grandlyon.com/evenement/viens-recuperer-ton-freevelov-au-sein-de-lecole-ort/
END:VEVENT
BEGIN:VEVENT
DTSTART;TZID=UTC:20240530T110000
DTEND;TZID=UTC:20240530T140000
DTSTAMP:20260423T021419
CREATED:20240522T104756Z
LAST-MODIFIED:20240522T104757Z
UID:10000240-1717066800-1717077600@freevelov.grandlyon.com
SUMMARY:Viens récupérer ton Freevélo'v sur le campus Berges du Rhône - Lyon 2 !
DESCRIPTION:Cette année\, nous serons présents sur différents campus étudiants pour permettre à tous de venir récupérer son Freevélo’v ! 🙂 Le jeudi 30/05/2024\, rendez-vous sur le campus Berges du Rhône situé dans le 7ème arrondissement de Lyon. A bientôt sur votre campus ou en agence ! 😉
URL:https://freevelov.grandlyon.com/evenement/viens-recuperer-ton-freevelov-sur-le-campus-berges-du-rhone-lyon-2-3/
END:VEVENT
BEGIN:VEVENT
DTSTART;TZID=UTC:20240601T110000
DTEND;TZID=UTC:20240601T180000
DTSTAMP:20260423T021419
CREATED:20240524T101138Z
LAST-MODIFIED:20240524T101139Z
UID:10000242-1717239600-1717264800@freevelov.grandlyon.com
SUMMARY:Nous serons présents à l'évènement Grandes terres en fête à Feyzin
DESCRIPTION:Nous sommes ravis de vous annoncer que nous serons présents à l’évènement Grandes Terres en fête de Feyzin\, co-organisé par la Métropole de Lyon ce samedi 01/06. Retrouvez nous au Fort de Feyzin au 8 route du Dr Long de 11h à 18h.
URL:https://freevelov.grandlyon.com/evenement/nous-serons-presents-a-levenement-grandes-terres-en-fete-a-feyzin/
END:VEVENT
BEGIN:VEVENT
DTSTART;TZID=UTC:20240604T120000
DTEND;TZID=UTC:20240604T140000
DTSTAMP:20260423T021419
CREATED:20240522T105907Z
LAST-MODIFIED:20240522T105907Z
UID:10000241-1717502400-1717509600@freevelov.grandlyon.com
SUMMARY:Viens récupérer ton freevélo’v au sein de l'école SEPR !
DESCRIPTION:Cette année\, nous serons présents sur différents campus étudiants pour permettre à tous de venir récupérer son Freevélo’v ! 🙂 \n\n\n\n Le 04/06/2024\, rendez-vous à SEPR au 46 r Prof Rochaix\, 69003 Lyon. A bientôt sur votre campus ou en agence !
URL:https://freevelov.grandlyon.com/evenement/viens-recuperer-ton-freevelov-au-sein-de-lecole-sepr/
END:VEVENT
BEGIN:VEVENT
DTSTART;TZID=UTC:20240604T120000
DTEND;TZID=UTC:20240604T143000
DTSTAMP:20260423T021419
CREATED:20240528T105950Z
LAST-MODIFIED:20240528T105951Z
UID:10000244-1717502400-1717511400@freevelov.grandlyon.com
SUMMARY:Viens récupérer ton freevélo’v au parc de la tête d'or !
DESCRIPTION:Cette année\, nous serons présents au coté de l’association Innovation & développement pour permettre à tous de venir récupérer son Freevélo’v ! 🙂 Le mardi 4/06/2024\, rendez-vous à la tête d’or 69006 Lyon. A bientôt ! 😉
URL:https://freevelov.grandlyon.com/evenement/viens-recuperer-ton-freevelov-au-parc-de-la-tete-dor/
END:VEVENT
BEGIN:VEVENT
DTSTART;TZID=UTC:20240612T150000
DTEND;TZID=UTC:20240612T180000
DTSTAMP:20260423T021419
CREATED:20240528T103650Z
LAST-MODIFIED:20240528T103650Z
UID:10000243-1718204400-1718215200@freevelov.grandlyon.com
SUMMARY:Viens récupérer ton freevélo’v au sein de l’association Acolea !
DESCRIPTION:Cette année\, nous serons présents au sein de l’association Acolea pour permettre à tous de venir récupérer son Freevélo’v ! 🙂 Le mercredi 12/06/2024\, rendez-vous au 134 route de Vienne 69 008 Lyon. A bientôt ! 😉
URL:https://freevelov.grandlyon.com/evenement/viens-recuperer-ton-freevelov-au-sein-de-lassociation-acolea/
END:VEVENT
BEGIN:VEVENT
DTSTART;TZID=UTC:20240613T090000
DTEND;TZID=UTC:20240613T170000
DTSTAMP:20260423T021419
CREATED:20240528T144337Z
LAST-MODIFIED:20240528T144337Z
UID:10000246-1718269200-1718298000@freevelov.grandlyon.com
SUMMARY:Viens récupérer ton freevélo’v au sein de l'association Unis cité  !
DESCRIPTION:Cette année\, nous serons présents au sein de l’association Unis cité pour permettre à tous de venir récupérer son Freevélo’v ! 🙂 Le jeudi 13/06/2024\, rendez-vous au 20 rue du lac 69003 Lyon. A bientôt ! 😉
URL:https://freevelov.grandlyon.com/evenement/viens-recuperer-ton-freevelov-au-sein-de-lassociation-unis-cite-2/
END:VEVENT
BEGIN:VEVENT
DTSTART;TZID=UTC:20240618T183000
DTEND;TZID=UTC:20240618T200000
DTSTAMP:20260423T021419
CREATED:20240615T090754Z
LAST-MODIFIED:20240615T090755Z
UID:10000247-1718735400-1718740800@freevelov.grandlyon.com
SUMMARY:Viens récupérer ton freevélo’v à la maison des étudiants !
DESCRIPTION:Cette année\, nous serons présents au sein de la maison des étudiants pour permettre à tous de venir récupérer son Freevélo’v ! 🙂 Le mardi 18/06/2024\, rendez-vous au 90 Rue de Marseille\, 69007 Lyon. A bientôt ! 😉
URL:https://freevelov.grandlyon.com/evenement/viens-recuperer-ton-freevelov-a-la-maison-des-etudiants/
END:VEVENT
BEGIN:VEVENT
DTSTART;TZID=UTC:20240620T133000
DTEND;TZID=UTC:20240620T170000
DTSTAMP:20260423T021419
CREATED:20240413T081123Z
LAST-MODIFIED:20240618T162112Z
UID:10000153-1718890200-1718902800@freevelov.grandlyon.com
SUMMARY:Viens récupérer ton freevélo’v au sein d'Info Jeunes !
DESCRIPTION:Cette année\, nous serons présents au sein de l’association Info Jeunes pour permettre à tous de venir récupérer son Freevélo’v ! 🙂 Le jeudi 20/06/2024\, rendez-vous au 66 cours Charlemagne 69002 Lyon. A bientôt ! 😉
URL:https://freevelov.grandlyon.com/evenement/viens-recuperer-ton-freevelov-chez-info-jeunes-2/
END:VEVENT
BEGIN:VEVENT
DTSTART;TZID=UTC:20240709T170000
DTEND;TZID=UTC:20240709T180000
DTSTAMP:20260423T021419
CREATED:20240702T092325Z
LAST-MODIFIED:20240702T092325Z
UID:10000248-1720544400-1720548000@freevelov.grandlyon.com
SUMMARY:Viens récupérer ton freevélo’v au sein de l’école Brassart !
DESCRIPTION:Cette année\, nous serons présents au sein de l’école Brassart pour permettre à tous de venir récupérer son Freevélo’v ! 🙂 Le mardi 09/07/2024\, rendez-vous au 2 Av. du château de Gerland\, 69 007 LYON. A bientôt ! 😉
URL:https://freevelov.grandlyon.com/evenement/viens-recuperer-ton-freevelov-au-sein-de-lecole-brassart/
END:VEVENT
BEGIN:VEVENT
DTSTART;TZID=UTC:20240830T080000
DTEND;TZID=UTC:20240830T160000
DTSTAMP:20260423T021419
CREATED:20240824T073944Z
LAST-MODIFIED:20240824T073944Z
UID:10000162-1725004800-1725033600@freevelov.grandlyon.com
SUMMARY:Viens récupérer ton freevélo’v au sein de la résidence CROUS Cartelier dans le 3ème !
DESCRIPTION:Cette année\, nous serons présents au sein de la résidence universitaire Crous Cartelier pour permettre à tous de venir récupérer son Freevélo’v ! 🙂 Le vendredi 30/08/2024\, rendez-vous au 71-77 rue Jean Jaurès à Villeurbanne. A bientôt ! 😉
URL:https://freevelov.grandlyon.com/evenement/viens-recuperer-ton-freevelov-au-sein-de-la-residence-crous-cartelier-dans-le-3eme/
END:VEVENT
BEGIN:VEVENT
DTSTART;TZID=UTC:20240830T080000
DTEND;TZID=UTC:20240830T170000
DTSTAMP:20260423T021419
CREATED:20240817T085214Z
LAST-MODIFIED:20240824T071053Z
UID:10000160-1725004800-1725037200@freevelov.grandlyon.com
SUMMARY:Viens récupérer ton freevélo’v au sein de la résidence CROUS Archimède à la Doua !
DESCRIPTION:Cette année\, nous serons présents au sein de la résidence universitaire Crous Archimède à la Doua pour permettre à tous de venir récupérer son Freevélo’v ! 🙂 Le vendredi 30/08/2024\, rendez-vous au 7A et 7B avenue Albert Einstein 69100 à Villeurbanne. A bientôt ! 😉
URL:https://freevelov.grandlyon.com/evenement/viens-recuperer-ton-freevelov-au-sein-de-la-residence-crous-a-la-doua/
END:VEVENT
BEGIN:VEVENT
DTSTART;TZID=UTC:20240831T090000
DTEND;TZID=UTC:20240831T150000
DTSTAMP:20260423T021419
CREATED:20240824T075549Z
LAST-MODIFIED:20240824T075550Z
UID:10000163-1725094800-1725116400@freevelov.grandlyon.com
SUMMARY:Viens récupérer ton freevélo’v au sein de la résidence CROUS Claudie Haigneré dans le 8ème !
DESCRIPTION:Cette année\, nous serons présents au sein de la résidence universitaire Crous Claudie Haigneré dans le 8eme arrondissement de Lyon pour permettre à tous de venir récupérer son Freevélo’v ! 🙂 Le samedi 31/08/2024\, rendez-vous au 29 rue Joseph Nicolas 69008 Lyon. A bientôt ! 😉
URL:https://freevelov.grandlyon.com/evenement/viens-recuperer-ton-freevelov-au-sein-de-la-residence-crous-claudie-haignere-dans-le-8eme/
END:VEVENT
BEGIN:VEVENT
DTSTART;TZID=UTC:20240902T080000
DTEND;TZID=UTC:20240902T160000
DTSTAMP:20260423T021419
CREATED:20240831T092201Z
LAST-MODIFIED:20240831T092202Z
UID:10000164-1725264000-1725292800@freevelov.grandlyon.com
SUMMARY:Viens récupérer ton freevélo’v au sein de la résidence CROUS Cavalier dans le 3ème !
DESCRIPTION:Cette année\, nous serons présents au sein de la résidence universitaire Crous Cavalier dans le 3eme arrondissement de Lyon pour permettre à tous de venir récupérer son Freevélo’v ! 🙂 Le lundi 02/09/2024\, rendez-vous au 8 rue Jeanne Koelher 69003 Lyon. A bientôt ! 😉
URL:https://freevelov.grandlyon.com/evenement/viens-recuperer-ton-freevelov-au-sein-de-la-residence-crous-cavalier-dans-le-3eme/
END:VEVENT
BEGIN:VEVENT
DTSTART;TZID=UTC:20240903T080000
DTEND;TZID=UTC:20240903T160000
DTSTAMP:20260423T021419
CREATED:20240824T070944Z
LAST-MODIFIED:20240831T092356Z
UID:10000161-1725350400-1725379200@freevelov.grandlyon.com
SUMMARY:Viens récupérer ton freevélo’v au sein de la résidence CROUS Delessert à Gerland !
DESCRIPTION:Cette année\, nous serons présents au sein de la résidence universitaire Crous Delessert à Gerland pour permettre à tous de venir récupérer son Freevélo’v ! 🙂 Le mardi 03/09/2024\, rendez-vous au 145 avenue Jean Jaurès 69007 Lyon. A bientôt ! 😉
URL:https://freevelov.grandlyon.com/evenement/viens-recuperer-ton-freevelov-au-sein-de-la-residence-crous-allix-dans-le-5eme/
END:VEVENT
BEGIN:VEVENT
DTSTART;TZID=UTC:20240904T080000
DTEND;TZID=UTC:20240904T160000
DTSTAMP:20260423T021419
CREATED:20240831T092724Z
LAST-MODIFIED:20240831T092725Z
UID:10000165-1725436800-1725465600@freevelov.grandlyon.com
SUMMARY:Viens récupérer ton freevélo’v au sein de la résidence CROUS Patay à Gerland !
DESCRIPTION:Cette année\, nous serons présents au sein de la résidence universitaire Crous Delessert à Gerland pour permettre à tous de venir récupérer son Freevélo’v ! 🙂 Le mercredi 04/09/2024\, rendez-vous au 17 rue Miriam Makeba 69008 Lyon. A bientôt ! 😉
URL:https://freevelov.grandlyon.com/evenement/viens-recuperer-ton-freevelov-au-sein-de-la-residence-crous-patay-a-gerland/
END:VEVENT
BEGIN:VEVENT
DTSTART;TZID=UTC:20240905T110000
DTEND;TZID=UTC:20240905T140000
DTSTAMP:20260423T021419
CREATED:20240831T093111Z
LAST-MODIFIED:20240831T093111Z
UID:10000166-1725534000-1725544800@freevelov.grandlyon.com
SUMMARY:Nous sommes présents à Lyon 2 à Bron !
DESCRIPTION:Cette année\, nous serons présents au sein de l’université Lyon 2 à Bron pour vous présenter notre service ! 🙂 Envie de discuter ? Besoin d’informations supplémentaires ? Besoin d’aide lors de l’inscription ? Passez nous voir ! Le jeudi 05/09/2024\, rendez-vous au 5 av Pierre Mendès France\, 69500 à Bron. A bientôt ! 😉
URL:https://freevelov.grandlyon.com/evenement/nous-sommes-presents-a-lyon-2-a-bron/
END:VEVENT
BEGIN:VEVENT
DTSTART;TZID=UTC:20240910T110000
DTEND;TZID=UTC:20240910T140000
DTSTAMP:20260423T021419
CREATED:20240909T100712Z
LAST-MODIFIED:20240909T101019Z
UID:10000168-1725966000-1725976800@freevelov.grandlyon.com
SUMMARY:On se retrouve à Lyon 2 !
DESCRIPTION:Mardi 10 septembre\, entre 11h et 14h\, viens nous retrouver à Lyon 2 sur les Berges. On te parlera de Freevélo’v\, on t’aidera à t’inscrire\, et surtout\, on partagera nos tips pour bouger écolo en ville. On t’attend avec impatience ! 🌍
URL:https://freevelov.grandlyon.com/evenement/on-debarque-a-lyon-2/
END:VEVENT
BEGIN:VEVENT
DTSTART;TZID=UTC:20240911T100000
DTEND;TZID=UTC:20240911T180000
DTSTAMP:20260423T021419
CREATED:20240909T100557Z
LAST-MODIFIED:20240909T100557Z
UID:10000167-1726048800-1726077600@freevelov.grandlyon.com
SUMMARY:On se retrouve au Salon du logement !
DESCRIPTION:Mercredi 11 septembre\, entre 10h et 18h\, viens nous retrouver au Salon du logement à Lyon. On te parlera de Freevélo’v\, on t’aidera à t’inscrire\, et surtout\, on partagera nos tips pour bouger écolo en ville. On t’attend avec impatience ! 🚴‍♂️
URL:https://freevelov.grandlyon.com/evenement/on-se-retrouve-au-salon-du-logement/
END:VEVENT
BEGIN:VEVENT
DTSTART;TZID=UTC:20240912T100000
DTEND;TZID=UTC:20240912T140000
DTSTAMP:20260423T021419
CREATED:20240909T100912Z
LAST-MODIFIED:20240909T101030Z
UID:10000169-1726135200-1726149600@freevelov.grandlyon.com
SUMMARY:Rejoins nous à Lyon 3 !
DESCRIPTION:Jeudi 12 septembre\, entre 11h et 14h\, viens nous retrouver à Lyon 3. On te parlera de Freevélo’v\, on t’aidera à t’inscrire\, et surtout\, on partagera nos tips pour bouger écolo en ville. On t’attend avec impatience ! 🌍
URL:https://freevelov.grandlyon.com/evenement/on-debarque-a-lyon-3/
END:VEVENT
END:VCALENDAR