BEGIN:VCALENDAR
VERSION:2.0
PRODID:-//FreeVélo&#039;v - ECPv6.15.20//NONSGML v1.0//EN
CALSCALE:GREGORIAN
METHOD:PUBLISH
X-WR-CALNAME:FreeVélo&#039;v
X-ORIGINAL-URL:https://freevelov.grandlyon.com
X-WR-CALDESC:Évènements pour FreeVélo&#039;v
REFRESH-INTERVAL;VALUE=DURATION:PT1H
X-Robots-Tag:noindex
X-PUBLISHED-TTL:PT1H
BEGIN:VTIMEZONE
TZID:UTC
BEGIN:STANDARD
TZOFFSETFROM:+0000
TZOFFSETTO:+0000
TZNAME:UTC
DTSTART:20240101T000000
END:STANDARD
END:VTIMEZONE
BEGIN:VEVENT
DTSTART;TZID=UTC:20250501T000000
DTEND;TZID=UTC:20250531T235959
DTSTAMP:20260420T141851
CREATED:20250401T083101Z
LAST-MODIFIED:20250430T132226Z
UID:7516-1746057600-1748735999@freevelov.grandlyon.com
SUMMARY:Challenge Freevélo'v "Pédale un Max" 🚴
DESCRIPTION:Comment participer ? \n\n\n\nInscris-toi sur la plateforme et rejoins le challenge. Pédale un max et enregistre tes trajets (via une appli GPS\, un compteur vélo\, ou en déclarant simplement tes kilomètres manuellement). \n\n\n\nLes récompenses 🎁\n\n\n\nDes lots à gagner pour les plus actifs : goodies Freevélo’v\, bons d’achat\, et un tirage au sort pour une place de festival pour le festival 24h de l’INSA ! \n\n\n\n💡 Astuce\n\n\n\nPartage tes trajets et tes exploits sur Instagram freevelov.grandlyon avec #PédaleUnMax\, taggue et motive tes amis à rejoindre le défi ! \n\n\n\nPrérequis\n\n\n\nAvoir un contrat Freevélo’v en cours ! Inscris-toi ici.Prêt à rouler et à exploser les compteurs ? 🚀
URL:https://freevelov.grandlyon.com/evenement/%f0%9f%9a%b4-challenge-freevelov-pedale-un-max-%f0%9f%9a%b4/
ATTACH;FMTTYPE=image/png:https://freevelov.grandlyon.com/wp-content/uploads/2025/04/LOGO_MAI_A_VELO_LOGO-ROND-COULEUR1-e1746019174508.png
END:VEVENT
BEGIN:VEVENT
DTSTART;TZID=UTC:20250514T120000
DTEND;TZID=UTC:20250514T140000
DTSTAMP:20260420T141851
CREATED:20250423T141406Z
LAST-MODIFIED:20250430T132326Z
UID:7544-1747224000-1747231200@freevelov.grandlyon.com
SUMMARY:Participe à l'atelier gestion des vols à l'agence !
DESCRIPTION:Nous organisons en partenariat avec la Maison du Vélo une co-animation sur un atelier gestion des vols\, le 14 mai de 12h à 14h ! Tu peux venir participer à l’atelier\, papoter\, poser tes questions vélos… Rendez-vous au 254 Rue Francis de Pressensé à Villeurbanne 🙂
URL:https://freevelov.grandlyon.com/evenement/viens-nous-voir-a-la-maison-du-velo-de-lyon/
ATTACH;FMTTYPE=image/png:https://freevelov.grandlyon.com/wp-content/uploads/2025/04/Logo-MDV-Original-scaled.png
END:VEVENT
BEGIN:VEVENT
DTSTART;TZID=UTC:20250515T140000
DTEND;TZID=UTC:20250515T160000
DTSTAMP:20260420T141851
CREATED:20250423T141057Z
LAST-MODIFIED:20250423T141058Z
UID:7540-1747317600-1747324800@freevelov.grandlyon.com
SUMMARY:Rendez-vous à l'ENTPE !
DESCRIPTION:On se retrouve le 15 mai 2025 à l’ENTPE de Lyon de 14h à 16h pour une animation dans l’école !
URL:https://freevelov.grandlyon.com/evenement/rendez-vous-a-lentpe/
END:VEVENT
BEGIN:VEVENT
DTSTART;TZID=UTC:20250522T170000
DTEND;TZID=UTC:20250522T190000
DTSTAMP:20260420T141851
CREATED:20250402T110153Z
LAST-MODIFIED:20250430T131603Z
UID:7520-1747933200-1747940400@freevelov.grandlyon.com
SUMMARY:🚴 Afterwork Freevélo’v au Ninkasi Guillotière – 22 mai\, de 17h à 19h
DESCRIPTION:Comment participer ? \n\n\n\nLe 22 mai\, ne manquez pas notre afterwork Freevélo’v au Ninkasi Guillotière\, de 17h à 19h 🚴‍♂️🍻 \n\n\n\nVenez découvrir nos solutions de mobilité durable tout en partageant un moment convivial autour d’un verre.  \n\n\n\nÉchanges\, bonne humeur et surprises au programme ! Profitez de cette occasion pour rencontrer d’autres passionnés de vélo et de mobilité responsable. 🚴‍♂️🍻  \n\n\n\nAvoir un contrat Freevélo’v en cours ! Inscris-toi ici.
URL:https://freevelov.grandlyon.com/evenement/%f0%9f%9a%b4-afterwork-freevelov-au-ninkasi-guillotiere-22-mai-de-17h-a-19h/
ATTACH;FMTTYPE=image/png:https://freevelov.grandlyon.com/wp-content/uploads/2025/04/logo_ninkasi.png
END:VEVENT
BEGIN:VEVENT
DTSTART;TZID=UTC:20250613T100000
DTEND;TZID=UTC:20250613T110000
DTSTAMP:20260420T141851
CREATED:20250521T150121Z
LAST-MODIFIED:20250521T150122Z
UID:7575-1749808800-1749812400@freevelov.grandlyon.com
SUMMARY:🚴Formation apprendre à circuler à vélo en ville
DESCRIPTION:Comment participer ? \n\n\n\nLe 13 juin mai\, ne manquez pas cet atelier organisé par notre partenaire la Maison de Lyon\, de 10 à 11h 🚴‍♂️🍻\n\n\n\nRDV ici  Maison du vélo de Lyon  – 244 rue Garibaldi\, 69003 \n\n\n\nVous savez faire du vélo mais hésitez encore à rouler en ville ? Cette session vous permet de découvrir les aménagements cyclables\, d’adapter votre comportement selon l’environnement urbain\, et de gagner en aisance. Objectif : se déplacer à vélo en toute liberté et en toute sécurité. \n\n\n\nAvoir un contrat Freevélo’v en cours ! Inscris-toi ici. \n\n\n\nTous les détails ici https://www.maisonduvelolyon.org/apprendre-velo-lyon/
URL:https://freevelov.grandlyon.com/evenement/%f0%9f%9a%b4formation-apprendre-a-circuler-a-velo-en-ville/
ATTACH;FMTTYPE=image/png:https://freevelov.grandlyon.com/wp-content/uploads/2025/04/logo_ninkasi.png
END:VEVENT
BEGIN:VEVENT
DTSTART;TZID=UTC:20250523T203000
DTEND;TZID=UTC:20250525T040000
DTSTAMP:20260420T141851
CREATED:20250430T131154Z
LAST-MODIFIED:20250430T131351Z
UID:7549-1748032200-1748145600@freevelov.grandlyon.com
SUMMARY:Rejoins-nous aux 24H de l'INSA !
DESCRIPTION:Freevélo’v sera présent lors des 24H de l’INSA\, le plus grand festival étudiant de France ! L’occasion parfaite pour venir découvrir ou redécouvrir le service\, poser toutes vos questions et peut-être repartir avec quelques surprises…Rendez-vous sur notre stand pour parler vélo et mobilité durable dans une ambiance incroyable !🎉👉 Plus d’infos sur l’événement : www.24heures.org
URL:https://freevelov.grandlyon.com/evenement/rejoins-nous-aux-24h-de-linsa/
ATTACH;FMTTYPE=image/png:https://freevelov.grandlyon.com/wp-content/uploads/2025/04/capture_decran_20250410_152212.png
END:VEVENT
BEGIN:VEVENT
DTSTART;TZID=UTC:20250524T080000
DTEND;TZID=UTC:20250524T170000
DTSTAMP:20260420T141851
CREATED:20250509T090445Z
LAST-MODIFIED:20250509T090445Z
UID:7566-1748073600-1748106000@freevelov.grandlyon.com
SUMMARY:Récupère ton Freevélo'v au sein du village partenaire des 24H DE L'INSA !
DESCRIPTION:Notre team sera présente aux 24H DE L’INSA le samedi 24 et le dimanche 25 mai 2025 de 11h à 18h. Viens récupérer ton Freevélo’v (attention à bien le réserver quelques jours avant !) et papoter vélo ! Nous t’attendons avec impatience ! A bientôt 🙂
URL:https://freevelov.grandlyon.com/evenement/recupere-ton-freevelov-au-sein-du-village-partenaire-des-24h-de-linsa/
ATTACH;FMTTYPE=image/png:https://freevelov.grandlyon.com/wp-content/uploads/2025/05/og-image.png
END:VEVENT
BEGIN:VEVENT
DTSTART;TZID=UTC:20250525T080000
DTEND;TZID=UTC:20250525T170000
DTSTAMP:20260420T141851
CREATED:20250509T090642Z
LAST-MODIFIED:20250509T090643Z
UID:7569-1748160000-1748192400@freevelov.grandlyon.com
SUMMARY:Récupère ton Freevélo’v au sein du village partenaire des 24H DE L’INSA !
DESCRIPTION:Notre team sera présente aux 24H DE L’INSA le samedi 24 et le dimanche 25 mai 2025 de 11h à 18h. Viens récupérer ton Freevélo’v (attention à bien le réserver quelques jours avant !) et papoter vélo ! Nous t’attendons avec impatience ! A bientôt 🙂
URL:https://freevelov.grandlyon.com/evenement/recupere-ton-freevelov-au-sein-du-village-partenaire-des-24h-de-linsa-2/
ATTACH;FMTTYPE=image/png:https://freevelov.grandlyon.com/wp-content/uploads/2025/05/og-image.png
END:VEVENT
END:VCALENDAR