BEGIN:VCALENDAR
VERSION:2.0
PRODID:-//FreeVélo&#039;v - ECPv6.15.20//NONSGML v1.0//EN
CALSCALE:GREGORIAN
METHOD:PUBLISH
X-WR-CALNAME:FreeVélo&#039;v
X-ORIGINAL-URL:https://freevelov.grandlyon.com
X-WR-CALDESC:Évènements pour FreeVélo&#039;v
REFRESH-INTERVAL;VALUE=DURATION:PT1H
X-Robots-Tag:noindex
X-PUBLISHED-TTL:PT1H
BEGIN:VTIMEZONE
TZID:UTC
BEGIN:STANDARD
TZOFFSETFROM:+0000
TZOFFSETTO:+0000
TZNAME:UTC
DTSTART:20240101T000000
END:STANDARD
END:VTIMEZONE
BEGIN:VEVENT
DTSTART;TZID=UTC:20250602T120000
DTEND;TZID=UTC:20250602T140000
DTSTAMP:20260420T124742
CREATED:20250526T074342Z
LAST-MODIFIED:20250526T074343Z
UID:7578-1748865600-1748872800@freevelov.grandlyon.com
SUMMARY:Retrouve notre équipe à l'INSA le lundi 2 juin !
DESCRIPTION:Hello ! Nous serons présents au sein de l’INSA pour le challenge mobilité le lundi 2 juin de 12h à 14h. Passe nous voir pour récupérer ton Freevélo’v\, t’inscrire ou juste papoter vélo. L’équipe Freevélo’v à hâte de te voir !
URL:https://freevelov.grandlyon.com/evenement/retrouve-notre-equipe-a-linsa-le-lundi-2-juin/
END:VEVENT
BEGIN:VEVENT
DTSTART;TZID=UTC:20250603T120000
DTEND;TZID=UTC:20250603T140000
DTSTAMP:20260420T124742
CREATED:20250526T074540Z
LAST-MODIFIED:20250526T074540Z
UID:7580-1748952000-1748959200@freevelov.grandlyon.com
SUMMARY:Récupère ton Freevélo'v au sein d'APRIL le mardi 3 juin ! :)
DESCRIPTION:Hello ! Nous serons présents au sein d’APRIL au 12 rue Juliette Récamier\, 69006 Lyon le mardi 3 juin de 12h à 14h. Passe nous voir pour récupérer ton Freevélo’v\, t’inscrire ou juste papoter vélo. L’équipe Freevélo’v à hâte de te voir !
URL:https://freevelov.grandlyon.com/evenement/recupere-ton-freevelov-au-sein-dapril-le-mardi-3-juin/
END:VEVENT
BEGIN:VEVENT
DTSTART;TZID=UTC:20250605T120000
DTEND;TZID=UTC:20250605T140000
DTSTAMP:20260420T124742
CREATED:20250526T074716Z
LAST-MODIFIED:20250526T074717Z
UID:7582-1749124800-1749132000@freevelov.grandlyon.com
SUMMARY:Récupère ton Freevélo'v au sein du campus ORT !
DESCRIPTION:Saluuuut ! Nous serons présents au sein du campus ORT le jeudi 5 juin de 12h à 14h. Passe nous voir pour récupérer ton Freevélo’v\, t’inscrire ou juste papoter vélo. L’équipe Freevélo’v à hâte de te voir !
URL:https://freevelov.grandlyon.com/evenement/recupere-ton-freevelov-au-sein-du-campus-ort/
END:VEVENT
BEGIN:VEVENT
DTSTART;TZID=UTC:20250610T080000
DTEND;TZID=UTC:20250610T170000
DTSTAMP:20260420T124742
CREATED:20250625T113705Z
LAST-MODIFIED:20250625T113705Z
UID:7622-1749542400-1749574800@freevelov.grandlyon.com
SUMMARY:Retrouve notre team Freevélo'v au sein de la mission locale à Givors !
DESCRIPTION:Hello ! Nous serons présents au sein de la mission locale de Givors de 10h à 12h le jeudi 10 juin. Passe nous voir pour récupérer ton Freevélo’v\, t’inscrire ou juste papoter vélo. L’équipe Freevélo’v à hâte de te voir !
URL:https://freevelov.grandlyon.com/evenement/retrouve-notre-team-freevelov-au-sein-de-la-mission-locale-a-givors/
END:VEVENT
BEGIN:VEVENT
DTSTART;TZID=UTC:20250613T090000
DTEND;TZID=UTC:20250613T100000
DTSTAMP:20260420T124742
CREATED:20250526T074853Z
LAST-MODIFIED:20250526T074853Z
UID:7584-1749805200-1749808800@freevelov.grandlyon.com
SUMMARY:Nous serons au sein de la mission locale de Tassin le vendredi 13 juin !
DESCRIPTION:Hello ! Retrouve la team Freevélo’v le vendredi 13 juin à 9h au sein de la mission locale de Tassin. Passe nous voir pour récupérer ton Freevélo’v\, t’inscrire ou juste papoter vélo. L’équipe Freevélo’v à hâte de te voir !
URL:https://freevelov.grandlyon.com/evenement/nous-serons-au-sein-de-la-mission-locale-de-tassin-le-vendredi-13-juin/
END:VEVENT
BEGIN:VEVENT
DTSTART;TZID=UTC:20250620T140000
DTEND;TZID=UTC:20250620T160000
DTSTAMP:20260420T124742
CREATED:20250526T075027Z
LAST-MODIFIED:20250620T073427Z
UID:7586-1750428000-1750435200@freevelov.grandlyon.com
SUMMARY:Retrouve notre équipe au sein d'info jeunes le 20 Juin !
DESCRIPTION:Hello ! Nous serons présents au sein d’info Jeunes le 20 juin de 14h à 16h. Passe nous voir pour récupérer ton Freevélo’v\, t’inscrire ou juste papoter vélo. L’équipe Freevélo’v à hâte de te voir !
URL:https://freevelov.grandlyon.com/evenement/retrouve-notre-equipe-au-sein-dinfo-jeunes-le-18-et-20-juin/
END:VEVENT
BEGIN:VEVENT
DTSTART;TZID=UTC:20250624T150000
DTEND;TZID=UTC:20250624T170000
DTSTAMP:20260420T124742
CREATED:20250526T075428Z
LAST-MODIFIED:20250526T075429Z
UID:7589-1750777200-1750784400@freevelov.grandlyon.com
SUMMARY:Participe à l’atelier gestion des vols à l’agence. En collaboration avec la Maison du vélo !
DESCRIPTION:Nous organisons en partenariat avec la Maison du Vélo une co-animation sur un atelier gestion des vols\, le 24 juin de 15h à 17h ! Tu peux venir récupérer ton Freevélo’v et par la même occasion participer à l’atelier\, papoter\, poser tes questions vélos…Rendez-vous au 254 Rue Francis de Pressensé à Villeurbanne 🙂
URL:https://freevelov.grandlyon.com/evenement/participe-a-latelier-gestion-des-vols-a-lagence-en-collaboration-avec-la-maison-du-velo/
END:VEVENT
BEGIN:VEVENT
DTSTART;TZID=UTC:20250626T080000
DTEND;TZID=UTC:20250626T170000
DTSTAMP:20260420T124742
CREATED:20250526T075809Z
LAST-MODIFIED:20250526T075809Z
UID:7592-1750924800-1750957200@freevelov.grandlyon.com
SUMMARY:Retrouve nous au Lyon Street Food Festival !
DESCRIPTION:Freevélo’v sera présent lors du Lyon Street Food Festival le 25\, 26 et 27 Juin ! L’occasion parfaite pour venir découvrir ou redécouvrir le service\, poser toutes vos questions et peut-être repartir avec quelques surprises… Rendez-vous sur notre stand pour parler vélo et mobilité durable dans une ambiance incroyable !🎉
URL:https://freevelov.grandlyon.com/evenement/retrouve-nous-au-lyon-street-food-festival/
ATTACH;FMTTYPE=image/png:https://freevelov.grandlyon.com/wp-content/uploads/2025/05/GIF_LSFF-2025-05-scaled.png
END:VEVENT
BEGIN:VEVENT
DTSTART;TZID=UTC:20250628T080000
DTEND;TZID=UTC:20250628T170000
DTSTAMP:20260420T124742
CREATED:20250526T080118Z
LAST-MODIFIED:20250526T080119Z
UID:7595-1751097600-1751130000@freevelov.grandlyon.com
SUMMARY:Retrouve notre team au sein d'Evasion Festival !
DESCRIPTION:Freevélo’v sera présent lors de l’évasion festival le 28 et 29 Juin ! L’occasion parfaite pour venir découvrir ou redécouvrir le service\, poser toutes vos questions et peut-être repartir avec quelques surprises… Rendez-vous sur notre stand pour récupérer ton Freevélo’v\, parler vélo et mobilité durable dans une ambiance incroyable !🎉
URL:https://freevelov.grandlyon.com/evenement/retrouve-notre-team-au-sein-devasion-festival/
ATTACH;FMTTYPE=image/webp:https://freevelov.grandlyon.com/wp-content/uploads/2025/05/LOGO_EVASION_AFFICHE-1024x174-1.webp
END:VEVENT
END:VCALENDAR