BEGIN:VCALENDAR
VERSION:2.0
PRODID:-//FreeVélo&#039;v - ECPv6.15.20//NONSGML v1.0//EN
CALSCALE:GREGORIAN
METHOD:PUBLISH
X-ORIGINAL-URL:https://freevelov.grandlyon.com
X-WR-CALDESC:Évènements pour FreeVélo&#039;v
REFRESH-INTERVAL;VALUE=DURATION:PT1H
X-Robots-Tag:noindex
X-PUBLISHED-TTL:PT1H
BEGIN:VTIMEZONE
TZID:UTC
BEGIN:STANDARD
TZOFFSETFROM:+0000
TZOFFSETTO:+0000
TZNAME:UTC
DTSTART:20250101T000000
END:STANDARD
END:VTIMEZONE
BEGIN:VEVENT
DTSTART;TZID=UTC:20260302T140000
DTEND;TZID=UTC:20260302T160000
DTSTAMP:20260421T083140
CREATED:20260226T090537Z
LAST-MODIFIED:20260226T112813Z
UID:10000403-1772460000-1772467200@freevelov.grandlyon.com
SUMMARY:Retrouve ton FreeVélo'v au Public Factory de Sciences Po dans le 7ème ! ✅
DESCRIPTION:En partenariat avec le Bureau des Sports de Science Po Lyon\, retrouve notre équipe au Public Factory – Sciences Po Lyon\, le lundi 2 mars entre 14 h et 16 h ! Passe nous voir pour récupérer ton FreeVélo’v\, dénicher des astuces ou simplement poser tes questions. Nous avons hâte de te rencontrer !
URL:https://freevelov.grandlyon.com/evenement/retrouve-ton-freevelov-a-science-po-lyon-dans-le-7eme-%e2%9c%85/
LOCATION:Public Factory – Sciences Po Lyon\, 10 Rle du Grand Casernement\, Lyon\, 69007\, France
ATTACH;FMTTYPE=image/png:https://freevelov.grandlyon.com/wp-content/uploads/2026/02/Sciences-po-lyon.png
END:VEVENT
END:VCALENDAR